FILENAME: O4711464.SWS.48105.tif
QUADRANGLE_NAME: EVARO
QUADRANT: SW
WEST_LONGITUDE: -114 7 30.00000
EAST_LONGITUDE: -114 3 45.00000
NORTH_LATITUDE: 47 3 45.00000
SOUTH_LATITUDE: 47 0 0.00000
PRODUCTION_DATE: 1995 11 3
RASTER_ORDER: LEFT_RIGHT/TOP_BOTTOM
BAND_ORGANIZATION: SINGLE FILE
BAND_CONTENT: BLACK&WHITE
BAND_CONTENT: UNDEFINED
BAND_CONTENT: UNDEFINED
BITS_PER_PIXEL: 8
SAMPLES_AND_LINES: 5700 7770
HORIZONTAL_DATUM: NAD83
HORIZONTAL_COORDINATE_SYSTEM: UTM
COORDINATE_ZONE: 11
HORIZONTAL_UNITS: METERS
HORIZONTAL_RESOLUTION: 1.00000
SECONDARY_HORIZONTAL_DATUM: NAD27
XY_ORIGIN: 717930.00000 5216610.00000
SECONDARY_XY_ORIGIN: 718008.26100 5216402.56100
NATION: US
STATE: MT
NW_QUAD_CORNER_XY: 718312.02400 5216121.06000
NE_QUAD_CORNER_XY: 723057.64400 5216297.43900
SE_QUAD_CORNERY_XY: 723318.40700 5209352.64200
SW_QUAD_CORNER_XY: 718567.23000 5209176.23600
SECONDARY_NW_QUAD_XY: 718318.76200 5215902.62200
SECONDARY_NE_QUAD_XY: 723064.52900 5216079.00600
SECONDARY_SE_QUAD_XY: 723325.29100 5209134.23700
SECONDARY_SW_QUAD_XY: 718573.96700 5208957.82600
RMSE_XY: 2.70000
IMAGE_SOURCE: BLACK AND WHITE FILM
SOURCE_IMAGE_ID: NAPP 2645 059
SOURCE_IMAGE_DATE: 1990 8 7
SOURCE_DEM_DATE: 1995 11 3
AGENCY: WESTERN MAPPING CENTER (WMC)
PRODUCER: Analytical Surveys
PRODUCTION_SYSTEM: ORBIT OR_RECTIFY V.5.2
COMPRESSION: UNDEFINED
STANDARD_VERSION: 1996 12
METADATA_DATE: 1997 7 3
DATA_FILE_SIZE: 44294700
BYTE_COUNT: 5700
