Note: This header file was extracted from a digital orthophoto image that covers a full 7.5-minute quadrangle in Universal Transverse Mercator Coordinates. The State Library converted that image to Montana State Plane Coordinates, units meters, and extracted portions of the image that cover a 3.75-minute quarter-quadrangle. The coordinates given in this file do not apply to the State Plane Coordinate images.
BEGIN_USGS_DOQ_HEADER *
QUADRANGLE_NAME "HUSON" *
QUADRANT *
WEST_LONGITUDE -114 22 30.000 *
EAST_LONGITUDE -114 15 0.000 *
NORTH_LATITUDE 47 7 30.000 *
SOUTH_LATITUDE 47 0 0.000 *
PRODUCTION_DATE 2004 9 16 *
RASTER_ORDER LEFT_RIGHT/TOP_BOTTOM *
BAND_ORGANIZATION "SINGLE FILE" *
BAND_CONTENT BLACK&WHITE *
BITS_PER_PIXEL 8 *
SAMPLES_AND_LINES 10641 14822 *
HORIZONTAL_DATUM NAD83 *
HORIZONTAL_COORDINATE_SYSTEM UTM *
COORDINATE_ZONE 11 *
HORIZONTAL_UNITS METERS *
HORIZONTAL_RESOLUTION 1.0 *
SECONDARY_HORIZONTAL_DATUM NAD27 *
XY_ORIGIN 698723.610 5223030.460 *
SECONDARY_XY_ORIGIN 698801.720 5222822.783 *
NATION US *
STATE MT *
NW_QUAD_CORNER_XY 699096.137 5222398.516 *
NE_QUAD_CORNER_XY 708576.383 5222724.634 *
SE_QUAD_CORNER_XY 709064.822 5208834.822 *
SW_QUAD_CORNER_XY 699562.345 5208508.602 *
SECONDARY_NW_QUAD_XY 699102.292 5222180.030 *
SECONDARY_NE_QUAD_XY 708582.831 5222506.159 *
SECONDARY_SE_QUAD_XY 709071.268 5208616.402 *
SECONDARY_SW_QUAD_XY 699568.498 5208290.172 *
RMSE_XY 1.11 *
IMAGE_SOURCE "BLACK AND WHITE FILM" *
SOURCE_IMAGE_ID "NAPP 12661 110" *
SOURCE_IMAGE_DATE 2002 9 23 *
SOURCE_IMAGE_ID "NAPP 12661 108" *
SOURCE_IMAGE_DATE 2002 9 23 *
SOURCE_IMAGE_ID "NAPP 12661 131" *
SOURCE_IMAGE_DATE 2002 9 23 *
SOURCE_IMAGE_ID "NAPP 12661 129" *
SOURCE_IMAGE_DATE 2002 9 23 *
SOURCE_IMAGE_ID "NAPP 12661 111" *
SOURCE_IMAGE_DATE 2002 9 23 *
SOURCE_IMAGE_ID "NAPP 12661 109" *
SOURCE_IMAGE_DATE 2002 9 23 *
SOURCE_IMAGE_ID "NAPP 12661 107" *
SOURCE_IMAGE_DATE 2002 9 23 *
SOURCE_IMAGE_ID "NAPP 12661 128" *
SOURCE_IMAGE_DATE 2002 9 23 *
SOURCE_IMAGE_ID "NAPP 12661 130" *
SOURCE_IMAGE_DATE 2002 9 23 *
SOURCE_IMAGE_ID "NAPP 12661 132" *
SOURCE_IMAGE_DATE 2002 9 23 *
SOURCE_IMAGE_ID "NAPP 12661 94" *
SOURCE_IMAGE_DATE 2002 9 23 *
SOURCE_IMAGE_ID "NAPP 12661 95" *
SOURCE_IMAGE_DATE 2002 9 23 *
SOURCE_IMAGE_ID "NAPP 12661 96" *
SOURCE_IMAGE_DATE 2002 9 23 *
SOURCE_IMAGE_ID "NAPP 12661 97" *
SOURCE_IMAGE_DATE 2002 9 23 *
SOURCE_IMAGE_ID "NAPP 12661 98" *
SOURCE_IMAGE_DATE 2002 9 23 *
SOURCE_IMAGE_ID "NAPP 12668 42" *
SOURCE_IMAGE_DATE 2003 7 15 *
SOURCE_IMAGE_ID "NAPP 12668 43" *
SOURCE_IMAGE_DATE 2003 7 15 *
SOURCE_IMAGE_ID "NAPP 12668 44" *
SOURCE_IMAGE_DATE 2003 7 15 *
SOURCE_IMAGE_ID "NAPP 12668 45" *
SOURCE_IMAGE_DATE 2003 7 15 *
SOURCE_IMAGE_ID "NAPP 12668 46" *
SOURCE_IMAGE_DATE 2003 7 15 *
SOURCE_DEM_DATE 2004 1 1 *
AGENCY "WESTERN MAPPING CENTER (WMC)" *
PRODUCER "USDA FS GEOSPATIAL SERVICE AND TECHNOLOGY CENTER" *
PRODUCTION_SYSTEM "ORBIT OR_RECTIFY V.5.2" *
STANDARD_VERSION 1996 12 *
METADATA_DATE 2004 10 1 *
DATA_FILE_SIZE 157731543 *
BYTE_COUNT 10641 * *
