FILENAME: O4711455.NWS.48229.tif
QUADRANGLE_NAME: SADDLE MOUNTAIN
QUADRANT: NW
WEST_LONGITUDE: -114 15 0.00000
EAST_LONGITUDE: -114 11 15.00000
NORTH_LATITUDE: 47 15 0.00000
SOUTH_LATITUDE: 47 11 15.00000
PRODUCTION_DATE: 1995 11 2
RASTER_ORDER: LEFT_RIGHT/TOP_BOTTOM
BAND_ORGANIZATION: SINGLE FILE
BAND_CONTENT: BLACK&WHITE
BAND_CONTENT: UNDEFINED
BAND_CONTENT: UNDEFINED
BITS_PER_PIXEL: 8
SAMPLES_AND_LINES: 5670 7770
HORIZONTAL_DATUM: NAD83
HORIZONTAL_COORDINATE_SYSTEM: UTM
COORDINATE_ZONE: 11
HORIZONTAL_UNITS: METERS
HORIZONTAL_RESOLUTION: 1.00000
SECONDARY_HORIZONTAL_DATUM: NAD27
XY_ORIGIN: 707700.00000 5237100.00000
SECONDARY_XY_ORIGIN: 707777.91300 5236891.99700
NATION: US
STATE: MT
NW_QUAD_CORNER_XY: 708086.94600 5236614.68000
NE_QUAD_CORNER_XY: 712815.90300 5236783.37900
SE_QUAD_CORNERY_XY: 713066.31800 5229838.35500
SW_QUAD_CORNER_XY: 708331.78900 5229669.62700
SECONDARY_NW_QUAD_XY: 708093.39400 5236396.15200
SECONDARY_NE_QUAD_XY: 712822.49700 5236564.85600
SECONDARY_SE_QUAD_XY: 713072.91200 5229619.85800
SECONDARY_SW_QUAD_XY: 708338.23600 5229451.12500
RMSE_XY: 2.60000
IMAGE_SOURCE: BLACK AND WHITE FILM
SOURCE_IMAGE_ID: NAPP 2646 033
SOURCE_IMAGE_DATE: 1990 8 7
SOURCE_DEM_DATE: 1995 11 2
AGENCY: WESTERN MAPPING CENTER (WMC)
PRODUCER: Analytical Surveys
PRODUCTION_SYSTEM: ORBIT OR_RECTIFY V.5.2
COMPRESSION: UNDEFINED
STANDARD_VERSION: 1996 12
METADATA_DATE: 1997 7 3
DATA_FILE_SIZE: 44061570
BYTE_COUNT: 5670
