FILENAME: O4711448.NES.48094.tif
QUADRANGLE_NAME: SAINT IGNATIUS
QUADRANT: NE
WEST_LONGITUDE: -114 3 45.00000
EAST_LONGITUDE: -114 0 0.00000
NORTH_LATITUDE: 47 22 30.00000
SOUTH_LATITUDE: 47 18 45.00000
PRODUCTION_DATE: 1995 11 2
RASTER_ORDER: LEFT_RIGHT/TOP_BOTTOM
BAND_ORGANIZATION: SINGLE FILE
BAND_CONTENT: BLACK&WHITE
BAND_CONTENT: UNDEFINED
BAND_CONTENT: UNDEFINED
BITS_PER_PIXEL: 8
SAMPLES_AND_LINES: 5700 7770
HORIZONTAL_DATUM: NAD83
HORIZONTAL_COORDINATE_SYSTEM: UTM
COORDINATE_ZONE: 11
HORIZONTAL_UNITS: METERS
HORIZONTAL_RESOLUTION: 1.00000
SECONDARY_HORIZONTAL_DATUM: NAD27
XY_ORIGIN: 721350.00000 5251530.00000
SECONDARY_XY_ORIGIN: 721427.79600 5251321.62800
NATION: US
STATE: MT
NW_QUAD_CORNER_XY: 721749.83300 5251022.26600
NE_QUAD_CORNER_XY: 726467.56400 5251202.29200
SE_QUAD_CORNERY_XY: 726735.24300 5244257.24600
SW_QUAD_CORNER_XY: 722011.92700 5244077.18800
SECONDARY_NW_QUAD_XY: 721756.72300 5250803.70600
SECONDARY_NE_QUAD_XY: 726474.60000 5250983.73800
SECONDARY_SE_QUAD_XY: 726742.27900 5244038.71600
SECONDARY_SW_QUAD_XY: 722018.81600 5243858.65200
RMSE_XY: 1.30000
IMAGE_SOURCE: BLACK AND WHITE FILM
SOURCE_IMAGE_ID: NAPP 2641 133
SOURCE_IMAGE_DATE: 1990 7 1
SOURCE_DEM_DATE: 1995 11 2
AGENCY: WESTERN MAPPING CENTER (WMC)
PRODUCER: Analytical Surveys
PRODUCTION_SYSTEM: ORBIT OR_RECTIFY V.5.2
COMPRESSION: UNDEFINED
STANDARD_VERSION: 1996 12
METADATA_DATE: 1997 7 3
DATA_FILE_SIZE: 44294700
BYTE_COUNT: 5700
