FILENAME: O4711447.NES.48224.tif
QUADRANGLE_NAME: RAVALLI
QUADRANT: NE
WEST_LONGITUDE: -114 11 15.00000
EAST_LONGITUDE: -114 7 30.00000
NORTH_LATITUDE: 47 22 30.00000
SOUTH_LATITUDE: 47 18 45.00000
PRODUCTION_DATE: 1995 11 2
RASTER_ORDER: LEFT_RIGHT/TOP_BOTTOM
BAND_ORGANIZATION: SINGLE FILE
BAND_CONTENT: BLACK&WHITE
BAND_CONTENT: UNDEFINED
BAND_CONTENT: UNDEFINED
BITS_PER_PIXEL: 8
SAMPLES_AND_LINES: 5670 7770
HORIZONTAL_DATUM: NAD83
HORIZONTAL_COORDINATE_SYSTEM: UTM
COORDINATE_ZONE: 11
HORIZONTAL_UNITS: METERS
HORIZONTAL_RESOLUTION: 1.00000
SECONDARY_HORIZONTAL_DATUM: NAD27
XY_ORIGIN: 711930.00000 5251170.00000
SECONDARY_XY_ORIGIN: 712007.96200 5250961.63500
NATION: US
STATE: MT
NW_QUAD_CORNER_XY: 712314.30700 5250673.60000
NE_QUAD_CORNER_XY: 717032.08100 5250846.03500
SE_QUAD_CORNERY_XY: 717288.59000 5243900.92600
SW_QUAD_CORNER_XY: 712565.23200 5243728.46100
SECONDARY_NW_QUAD_XY: 712320.90300 5250455.03000
SECONDARY_NE_QUAD_XY: 717038.82400 5250627.47000
SECONDARY_SE_QUAD_XY: 717295.33200 5243682.38500
SECONDARY_SW_QUAD_XY: 712571.82700 5243509.91400
RMSE_XY: 1.20000
IMAGE_SOURCE: BLACK AND WHITE FILM
SOURCE_IMAGE_ID: NAPP 2641 071
SOURCE_IMAGE_DATE: 1990 7 1
SOURCE_DEM_DATE: 1995 11 2
AGENCY: WESTERN MAPPING CENTER (WMC)
PRODUCER: Analytical Surveys
PRODUCTION_SYSTEM: ORBIT OR_RECTIFY V.5.2
COMPRESSION: UNDEFINED
STANDARD_VERSION: 1996 12
METADATA_DATE: 1997 7 3
DATA_FILE_SIZE: 44061570
BYTE_COUNT: 5670
