FILENAME: O4711447.SES.48226.tif
QUADRANGLE_NAME: RAVALLI
QUADRANT: SE
WEST_LONGITUDE: -114 11 15.00000
EAST_LONGITUDE: -114 7 30.00000
NORTH_LATITUDE: 47 18 45.00000
SOUTH_LATITUDE: 47 15 0.00000
PRODUCTION_DATE: 1995 11 2
RASTER_ORDER: LEFT_RIGHT/TOP_BOTTOM
BAND_ORGANIZATION: SINGLE FILE
BAND_CONTENT: BLACK&WHITE
BAND_CONTENT: UNDEFINED
BAND_CONTENT: UNDEFINED
BITS_PER_PIXEL: 8
SAMPLES_AND_LINES: 5700 7740
HORIZONTAL_DATUM: NAD83
HORIZONTAL_COORDINATE_SYSTEM: UTM
COORDINATE_ZONE: 11
HORIZONTAL_UNITS: METERS
HORIZONTAL_RESOLUTION: 1.00000
SECONDARY_HORIZONTAL_DATUM: NAD27
XY_ORIGIN: 712170.00000 5244210.00000
SECONDARY_XY_ORIGIN: 712247.88400 5244001.81300
NATION: US
STATE: MT
NW_QUAD_CORNER_XY: 712565.23200 5243728.46100
NE_QUAD_CORNER_XY: 717288.59000 5243900.92600
SE_QUAD_CORNERY_XY: 717544.83900 5236955.87400
SW_QUAD_CORNER_XY: 712815.90300 5236783.37900
SECONDARY_NW_QUAD_XY: 712571.82700 5243509.91400
SECONDARY_NE_QUAD_XY: 717295.33200 5243682.38500
SECONDARY_SE_QUAD_XY: 717551.58000 5236737.35700
SECONDARY_SW_QUAD_XY: 712822.49700 5236564.85600
RMSE_XY: 3.20000
IMAGE_SOURCE: BLACK AND WHITE FILM
SOURCE_IMAGE_ID: NAPP 2641 073
SOURCE_IMAGE_DATE: 1990 7 1
SOURCE_DEM_DATE: 1995 11 2
AGENCY: WESTERN MAPPING CENTER (WMC)
PRODUCER: Analytical Surveys
PRODUCTION_SYSTEM: ORBIT OR_RECTIFY V.5.2
COMPRESSION: UNDEFINED
STANDARD_VERSION: 1996 12
METADATA_DATE: 1997 7 3
DATA_FILE_SIZE: 44123700
BYTE_COUNT: 5700
