FILENAME: O4711446.SWS.48351.tif
QUADRANGLE_NAME: DIXON
QUADRANT: SW
WEST_LONGITUDE: -114 22 30.00000
EAST_LONGITUDE: -114 18 45.00000
NORTH_LATITUDE: 47 18 45.00000
SOUTH_LATITUDE: 47 15 0.00000
PRODUCTION_DATE: 1995 11 2
RASTER_ORDER: LEFT_RIGHT/TOP_BOTTOM
BAND_ORGANIZATION: SINGLE FILE
BAND_CONTENT: BLACK&WHITE
BAND_CONTENT: UNDEFINED
BAND_CONTENT: UNDEFINED
BITS_PER_PIXEL: 8
SAMPLES_AND_LINES: 5670 7740
HORIZONTAL_DATUM: NAD83
HORIZONTAL_COORDINATE_SYSTEM: UTM
COORDINATE_ZONE: 11
HORIZONTAL_UNITS: METERS
HORIZONTAL_RESOLUTION: 1.00000
SECONDARY_HORIZONTAL_DATUM: NAD27
XY_ORIGIN: 698010.00000 5243700.00000
SECONDARY_XY_ORIGIN: 698087.90900 5243491.65100
NATION: US
STATE: MT
NW_QUAD_CORNER_XY: 698395.03700 5243233.83700
NE_QUAD_CORNER_XY: 703118.45500 5243394.91700
SE_QUAD_CORNERY_XY: 703357.97000 5236449.77700
SW_QUAD_CORNER_XY: 698628.97500 5236288.67000
SECONDARY_NW_QUAD_XY: 698401.19300 5243015.27500
SECONDARY_NE_QUAD_XY: 703124.75700 5243176.35900
SECONDARY_SE_QUAD_XY: 703364.27100 5236231.24400
SECONDARY_SW_QUAD_XY: 698635.13000 5236070.13200
RMSE_XY: 4.60000
IMAGE_SOURCE: BLACK AND WHITE FILM
SOURCE_IMAGE_ID: NAPP 2640 185
SOURCE_IMAGE_DATE: 1990 7 1
SOURCE_DEM_DATE: 1995 11 2
AGENCY: WESTERN MAPPING CENTER (WMC)
PRODUCER: Analytical Surveys
PRODUCTION_SYSTEM: ORBIT OR_RECTIFY V.5.2
COMPRESSION: UNDEFINED
STANDARD_VERSION: 1996 12
METADATA_DATE: 1997 7 3
DATA_FILE_SIZE: 43891470
BYTE_COUNT: 5670
