FILENAME: O4711440.NES.48090.tif
QUADRANGLE_NAME: FORT CONNAH
QUADRANT: NE
WEST_LONGITUDE: -114 3 45.00000
EAST_LONGITUDE: -114 0 0.00000
NORTH_LATITUDE: 47 30 0.00000
SOUTH_LATITUDE: 47 26 15.00000
PRODUCTION_DATE: 1995 11 2
RASTER_ORDER: LEFT_RIGHT/TOP_BOTTOM
BAND_ORGANIZATION: SINGLE FILE
BAND_CONTENT: BLACK&WHITE
BAND_CONTENT: UNDEFINED
BAND_CONTENT: UNDEFINED
BITS_PER_PIXEL: 8
SAMPLES_AND_LINES: 5670 7770
HORIZONTAL_DATUM: NAD83
HORIZONTAL_COORDINATE_SYSTEM: UTM
COORDINATE_ZONE: 11
HORIZONTAL_UNITS: METERS
HORIZONTAL_RESOLUTION: 1.00000
SECONDARY_HORIZONTAL_DATUM: NAD27
XY_ORIGIN: 720840.00000 5265420.00000
SECONDARY_XY_ORIGIN: 720917.91400 5265211.27100
NATION: US
STATE: MT
NW_QUAD_CORNER_XY: 721224.84900 5264912.59000
NE_QUAD_CORNER_XY: 725931.39200 5265092.54900
SE_QUAD_CORNERY_XY: 726199.61300 5258147.39300
SW_QUAD_CORNER_XY: 721487.47400 5257967.40000
SECONDARY_NW_QUAD_XY: 721231.74000 5264693.98500
SECONDARY_NE_QUAD_XY: 725938.43000 5264873.95000
SECONDARY_SE_QUAD_XY: 726206.65000 5257928.81600
SECONDARY_SW_QUAD_XY: 721494.36400 5257748.81700
RMSE_XY: 1.40000
IMAGE_SOURCE: BLACK AND WHITE FILM
SOURCE_IMAGE_ID: NAPP 2641 129
SOURCE_IMAGE_DATE: 1990 7 1
SOURCE_DEM_DATE: 1995 11 2
AGENCY: WESTERN MAPPING CENTER (WMC)
PRODUCER: Analytical Surveys
PRODUCTION_SYSTEM: ORBIT OR_RECTIFY V.5.2
COMPRESSION: UNDEFINED
STANDARD_VERSION: 1996 12
METADATA_DATE: 1997 7 3
DATA_FILE_SIZE: 44061570
BYTE_COUNT: 5670
