FILENAME: O4711439.SES.48222.tif
QUADRANGLE_NAME: CHARLO
QUADRANT: SE
WEST_LONGITUDE: -114 11 15.00000
EAST_LONGITUDE: -114 7 30.00000
NORTH_LATITUDE: 47 26 15.00000
SOUTH_LATITUDE: 47 22 30.00000
PRODUCTION_DATE: 1995 10 31
RASTER_ORDER: LEFT_RIGHT/TOP_BOTTOM
BAND_ORGANIZATION: SINGLE FILE
BAND_CONTENT: BLACK&WHITE
BAND_CONTENT: UNDEFINED
BAND_CONTENT: UNDEFINED
BITS_PER_PIXEL: 8
SAMPLES_AND_LINES: 5670 7740
HORIZONTAL_DATUM: NAD83
HORIZONTAL_COORDINATE_SYSTEM: UTM
COORDINATE_ZONE: 11
HORIZONTAL_UNITS: METERS
HORIZONTAL_RESOLUTION: 1.00000
SECONDARY_HORIZONTAL_DATUM: NAD27
XY_ORIGIN: 711690.00000 5258100.00000
SECONDARY_XY_ORIGIN: 711768.01400 5257891.46000
NATION: US
STATE: MT
NW_QUAD_CORNER_XY: 712063.12800 5257618.79800
NE_QUAD_CORNER_XY: 716775.31200 5257791.20100
SE_QUAD_CORNERY_XY: 717032.08100 5250846.03500
SW_QUAD_CORNER_XY: 712314.30700 5250673.60000
SECONDARY_NW_QUAD_XY: 712069.72500 5257400.20500
SECONDARY_NE_QUAD_XY: 716782.05500 5257572.61400
SECONDARY_SE_QUAD_XY: 717038.82400 5250627.47000
SECONDARY_SW_QUAD_XY: 712320.90300 5250455.03000
RMSE_XY: 2.30000
IMAGE_SOURCE: BLACK AND WHITE FILM
SOURCE_IMAGE_ID: NAPP 2641 069
SOURCE_IMAGE_DATE: 1990 7 1
SOURCE_DEM_DATE: 1995 10 31
AGENCY: WESTERN MAPPING CENTER (WMC)
PRODUCER: Analytical Surveys
PRODUCTION_SYSTEM: ORBIT OR_RECTIFY V.5.2
COMPRESSION: UNDEFINED
STANDARD_VERSION: 1996 12
METADATA_DATE: 1997 7 3
DATA_FILE_SIZE: 43891470
BYTE_COUNT: 5670
