FILENAME: O4711438.NWS.48345.tif
QUADRANGLE_NAME: SLOAN
QUADRANT: NW
WEST_LONGITUDE: -114 22 30.00000
EAST_LONGITUDE: -114 18 45.00000
NORTH_LATITUDE: 47 30 0.00000
SOUTH_LATITUDE: 47 26 15.00000
PRODUCTION_DATE: 1995 10 31
RASTER_ORDER: LEFT_RIGHT/TOP_BOTTOM
BAND_ORGANIZATION: SINGLE FILE
BAND_CONTENT: BLACK&WHITE
BAND_CONTENT: UNDEFINED
BAND_CONTENT: UNDEFINED
BITS_PER_PIXEL: 8
SAMPLES_AND_LINES: 5670 7740
HORIZONTAL_DATUM: NAD83
HORIZONTAL_COORDINATE_SYSTEM: UTM
COORDINATE_ZONE: 11
HORIZONTAL_UNITS: METERS
HORIZONTAL_RESOLUTION: 1.00000
SECONDARY_HORIZONTAL_DATUM: NAD27
XY_ORIGIN: 697290.00000 5264550.00000
SECONDARY_XY_ORIGIN: 697368.00800 5264340.92100
NATION: US
STATE: MT
NW_QUAD_CORNER_XY: 697691.80000 5264069.70100
NE_QUAD_CORNER_XY: 702398.45200 5264230.69200
SE_QUAD_CORNERY_XY: 702638.69600 5257285.37400
SW_QUAD_CORNER_XY: 697926.44900 5257124.35300
SECONDARY_NW_QUAD_XY: 697697.95800 5263851.07000
SECONDARY_NE_QUAD_XY: 702404.75700 5264012.06700
SECONDARY_SE_QUAD_XY: 702645.00000 5257066.77100
SECONDARY_SW_QUAD_XY: 697932.60600 5256905.74400
RMSE_XY: 2.40000
IMAGE_SOURCE: BLACK AND WHITE FILM
SOURCE_IMAGE_ID: NAPP 2640 191
SOURCE_IMAGE_DATE: 1990 7 1
SOURCE_DEM_DATE: 1995 10 31
AGENCY: WESTERN MAPPING CENTER (WMC)
PRODUCER: Analytical Surveys
PRODUCTION_SYSTEM: ORBIT OR_RECTIFY V.5.2
COMPRESSION: UNDEFINED
STANDARD_VERSION: 1996 12
METADATA_DATE: 1997 7 3
DATA_FILE_SIZE: 43891470
BYTE_COUNT: 5670
