FILENAME: O4711438.SES.48346.tif
QUADRANGLE_NAME: SLOAN
QUADRANT: SE
WEST_LONGITUDE: -114 18 45.00000
EAST_LONGITUDE: -114 15 0.00000
NORTH_LATITUDE: 47 26 15.00000
SOUTH_LATITUDE: 47 22 30.00000
PRODUCTION_DATE: 1995 10 31
RASTER_ORDER: LEFT_RIGHT/TOP_BOTTOM
BAND_ORGANIZATION: SINGLE FILE
BAND_CONTENT: BLACK&WHITE
BAND_CONTENT: UNDEFINED
BAND_CONTENT: UNDEFINED
BITS_PER_PIXEL: 8
SAMPLES_AND_LINES: 5670 7740
HORIZONTAL_DATUM: NAD83
HORIZONTAL_COORDINATE_SYSTEM: UTM
COORDINATE_ZONE: 11
HORIZONTAL_UNITS: METERS
HORIZONTAL_RESOLUTION: 1.00000
SECONDARY_HORIZONTAL_DATUM: NAD27
XY_ORIGIN: 702240.00000 5257770.00000
SECONDARY_XY_ORIGIN: 702317.99500 5257561.22500
NATION: US
STATE: MT
NW_QUAD_CORNER_XY: 702638.69600 5257285.37400
NE_QUAD_CORNER_XY: 707350.92200 5257450.18900
SE_QUAD_CORNERY_XY: 707596.51200 5250504.96100
SW_QUAD_CORNER_XY: 702878.69700 5250340.11600
SECONDARY_NW_QUAD_XY: 702645.00000 5257066.77100
SECONDARY_NE_QUAD_XY: 707357.37300 5257231.59100
SECONDARY_SE_QUAD_XY: 707602.96200 5250286.38500
SECONDARY_SW_QUAD_XY: 702885.00000 5250121.53500
RMSE_XY: 1.80000
IMAGE_SOURCE: BLACK AND WHITE FILM
SOURCE_IMAGE_ID: NAPP 2640 260
SOURCE_IMAGE_DATE: 1990 7 1
SOURCE_DEM_DATE: 1995 10 31
AGENCY: WESTERN MAPPING CENTER (WMC)
PRODUCER: Analytical Surveys
PRODUCTION_SYSTEM: ORBIT OR_RECTIFY V.5.2
COMPRESSION: UNDEFINED
STANDARD_VERSION: 1996 12
METADATA_DATE: 1997 7 3
DATA_FILE_SIZE: 43891470
BYTE_COUNT: 5670
