FILENAME: O4711431.NWS.48217.tif
QUADRANGLE_NAME: LOWER CROW RESERVOIR
QUADRANT: NW
WEST_LONGITUDE: -114 15 0.00000
EAST_LONGITUDE: -114 11 15.00000
NORTH_LATITUDE: 47 37 30.00000
SOUTH_LATITUDE: 47 33 45.00000
PRODUCTION_DATE: 1995 10 31
RASTER_ORDER: LEFT_RIGHT/TOP_BOTTOM
BAND_ORGANIZATION: SINGLE FILE
BAND_CONTENT: BLACK&WHITE
BAND_CONTENT: UNDEFINED
BAND_CONTENT: UNDEFINED
BITS_PER_PIXEL: 8
SAMPLES_AND_LINES: 5640 7740
HORIZONTAL_DATUM: NAD83
HORIZONTAL_COORDINATE_SYSTEM: UTM
COORDINATE_ZONE: 11
HORIZONTAL_UNITS: METERS
HORIZONTAL_RESOLUTION: 1.00000
SECONDARY_HORIZONTAL_DATUM: NAD27
XY_ORIGIN: 706230.00000 5278770.00000
SECONDARY_XY_ORIGIN: 706307.96500 5278560.91100
NATION: US
STATE: MT
NW_QUAD_CORNER_XY: 706612.66500 5278286.22600
NE_QUAD_CORNER_XY: 711308.06800 5278454.73800
SE_QUAD_CORNERY_XY: 711560.00800 5271509.36700
SW_QUAD_CORNER_XY: 706858.99800 5271340.82200
SECONDARY_NW_QUAD_XY: 706619.11700 5278067.56400
SECONDARY_NE_QUAD_XY: 711314.66800 5278236.08100
SECONDARY_SE_QUAD_XY: 711566.60700 5271290.73100
SECONDARY_SW_QUAD_XY: 706865.45000 5271122.18000
RMSE_XY: 3.30000
IMAGE_SOURCE: BLACK AND WHITE FILM
SOURCE_IMAGE_ID: NAPP 2641 012
SOURCE_IMAGE_DATE: 1990 7 1
SOURCE_DEM_DATE: 1995 10 31
AGENCY: WESTERN MAPPING CENTER (WMC)
PRODUCER: Analytical Surveys
PRODUCTION_SYSTEM: ORBIT OR_RECTIFY V.5.2
COMPRESSION: UNDEFINED
STANDARD_VERSION: 1996 12
METADATA_DATE: 1997 7 3
DATA_FILE_SIZE: 43659240
BYTE_COUNT: 5640
