FILENAME: O4711431.SES.48218.tif
QUADRANGLE_NAME: LOWER CROW RESERVOIR
QUADRANT: SE
WEST_LONGITUDE: -114 11 15.00000
EAST_LONGITUDE: -114 7 30.00000
NORTH_LATITUDE: 47 33 45.00000
SOUTH_LATITUDE: 47 30 0.00000
PRODUCTION_DATE: 1995 10 31
RASTER_ORDER: LEFT_RIGHT/TOP_BOTTOM
BAND_ORGANIZATION: SINGLE FILE
BAND_CONTENT: BLACK&WHITE
BAND_CONTENT: UNDEFINED
BAND_CONTENT: UNDEFINED
BITS_PER_PIXEL: 8
SAMPLES_AND_LINES: 5640 7740
HORIZONTAL_DATUM: NAD83
HORIZONTAL_COORDINATE_SYSTEM: UTM
COORDINATE_ZONE: 11
HORIZONTAL_UNITS: METERS
HORIZONTAL_RESOLUTION: 1.00000
SECONDARY_HORIZONTAL_DATUM: NAD27
XY_ORIGIN: 711180.00000 5271990.00000
SECONDARY_XY_ORIGIN: 711257.85200 5271781.17600
NATION: US
STATE: MT
NW_QUAD_CORNER_XY: 711560.00800 5271509.36700
NE_QUAD_CORNER_XY: 716260.99500 5271681.70500
SE_QUAD_CORNERY_XY: 716518.28300 5264736.42500
SW_QUAD_CORNER_XY: 711811.69500 5264564.05400
SECONDARY_NW_QUAD_XY: 711566.60700 5271290.73100
SECONDARY_NE_QUAD_XY: 716267.74100 5271463.07400
SECONDARY_SE_QUAD_XY: 716525.02800 5264517.81500
SECONDARY_SW_QUAD_XY: 711818.29200 5264345.43800
RMSE_XY: 2.10000
IMAGE_SOURCE: BLACK AND WHITE FILM
SOURCE_IMAGE_ID: NAPP 2641 65
SOURCE_IMAGE_DATE: 1990 7 1
SOURCE_DEM_DATE: 1995 10 31
AGENCY: WESTERN MAPPING CENTER (WMC)
PRODUCER: Analytical Surveys
PRODUCTION_SYSTEM: ORBIT OR_RECTIFY V.5.2
COMPRESSION: UNDEFINED
STANDARD_VERSION: 1996 12
METADATA_DATE: 1997 7 3
DATA_FILE_SIZE: 43659240
BYTE_COUNT: 5640
