FILENAME: O4711430.NES.48340.tif
QUADRANGLE_NAME: ROUND BUTTE
QUADRANT: NE
WEST_LONGITUDE: -114 18 45.00000
EAST_LONGITUDE: -114 15 0.00000
NORTH_LATITUDE: 47 37 30.00000
SOUTH_LATITUDE: 47 33 45.00000
PRODUCTION_DATE: 1995 10 31
RASTER_ORDER: LEFT_RIGHT/TOP_BOTTOM
BAND_ORGANIZATION: SINGLE FILE
BAND_CONTENT: BLACK&WHITE
BAND_CONTENT: UNDEFINED
BAND_CONTENT: UNDEFINED
BITS_PER_PIXEL: 8
SAMPLES_AND_LINES: 5640 7740
HORIZONTAL_DATUM: NAD83
HORIZONTAL_COORDINATE_SYSTEM: UTM
COORDINATE_ZONE: 11
HORIZONTAL_UNITS: METERS
HORIZONTAL_RESOLUTION: 1.00000
SECONDARY_HORIZONTAL_DATUM: NAD27
XY_ORIGIN: 701520.00000 5278590.00000
SECONDARY_XY_ORIGIN: 701597.95900 5278380.95900
NATION: US
STATE: MT
NW_QUAD_CORNER_XY: 701917.23900 5278121.50600
NE_QUAD_CORNER_XY: 706612.66500 5278286.22600
SE_QUAD_CORNERY_XY: 706858.99800 5271340.82200
SW_QUAD_CORNER_XY: 702157.96700 5271176.06900
SECONDARY_NW_QUAD_XY: 701923.54500 5277902.83900
SECONDARY_NE_QUAD_XY: 706619.11700 5278067.56400
SECONDARY_SE_QUAD_XY: 706865.45000 5271122.18000
SECONDARY_SW_QUAD_XY: 702164.27200 5270957.42300
RMSE_XY: 3.40000
IMAGE_SOURCE: BLACK AND WHITE FILM
SOURCE_IMAGE_ID: NAPP 2640 254
SOURCE_IMAGE_DATE: 1990 7 1
SOURCE_DEM_DATE: 1995 10 31
AGENCY: WESTERN MAPPING CENTER (WMC)
PRODUCER: Analytical Surveys
PRODUCTION_SYSTEM: ORBIT OR_RECTIFY V.5.2
COMPRESSION: UNDEFINED
STANDARD_VERSION: 1996 12
METADATA_DATE: 1997 7 3
DATA_FILE_SIZE: 43659240
BYTE_COUNT: 5640
