FILENAME: O4711430.NWS.48341.tif
QUADRANGLE_NAME: ROUND BUTTE
QUADRANT: NW
WEST_LONGITUDE: -114 22 30.00000
EAST_LONGITUDE: -114 18 45.00000
NORTH_LATITUDE: 47 37 30.00000
SOUTH_LATITUDE: 47 33 45.00000
PRODUCTION_DATE: 1995 10 31
RASTER_ORDER: LEFT_RIGHT/TOP_BOTTOM
BAND_ORGANIZATION: SINGLE FILE
BAND_CONTENT: BLACK&WHITE
BAND_CONTENT: UNDEFINED
BAND_CONTENT: UNDEFINED
BITS_PER_PIXEL: 8
SAMPLES_AND_LINES: 5640 7740
HORIZONTAL_DATUM: NAD83
HORIZONTAL_COORDINATE_SYSTEM: UTM
COORDINATE_ZONE: 11
HORIZONTAL_UNITS: METERS
HORIZONTAL_RESOLUTION: 1.00000
SECONDARY_HORIZONTAL_DATUM: NAD27
XY_ORIGIN: 696840.00000 5278440.00000
SECONDARY_XY_ORIGIN: 696917.92800 5278230.85500
NATION: US
STATE: MT
NW_QUAD_CORNER_XY: 697221.79100 5277960.57800
NE_QUAD_CORNER_XY: 701917.23900 5278121.50600
SE_QUAD_CORNERY_XY: 702157.96700 5271176.06900
SW_QUAD_CORNER_XY: 697456.91400 5271015.10900
SECONDARY_NW_QUAD_XY: 697227.95000 5277741.90600
SECONDARY_NE_QUAD_XY: 701923.54500 5277902.83900
SECONDARY_SE_QUAD_XY: 702164.27200 5270957.42300
SECONDARY_SW_QUAD_XY: 697463.07200 5270796.45700
RMSE_XY: 2.80000
IMAGE_SOURCE: BLACK AND WHITE FILM
SOURCE_IMAGE_ID: NAPP 2640 195
SOURCE_IMAGE_DATE: 1990 7 1
SOURCE_DEM_DATE: 1995 10 31
AGENCY: WESTERN MAPPING CENTER (WMC)
PRODUCER: Analytical Surveys
PRODUCTION_SYSTEM: ORBIT OR_RECTIFY V.5.2
COMPRESSION: UNDEFINED
STANDARD_VERSION: 1996 12
METADATA_DATE: 1997 7 3
DATA_FILE_SIZE: 43659240
BYTE_COUNT: 5640
