FILENAME: O4711424.NES.48082.tif
QUADRANGLE_NAME: EAST BAY
QUADRANT: NE
WEST_LONGITUDE: -114 3 45.00000
EAST_LONGITUDE: -114 0 0.00000
NORTH_LATITUDE: 47 45 0.00000
SOUTH_LATITUDE: 47 41 15.00000
PRODUCTION_DATE: 1995 10 31
RASTER_ORDER: LEFT_RIGHT/TOP_BOTTOM
BAND_ORGANIZATION: SINGLE FILE
BAND_CONTENT: BLACK&WHITE
BAND_CONTENT: UNDEFINED
BAND_CONTENT: UNDEFINED
BITS_PER_PIXEL: 8
SAMPLES_AND_LINES: 5640 7770
HORIZONTAL_DATUM: NAD83
HORIZONTAL_COORDINATE_SYSTEM: UTM
COORDINATE_ZONE: 11
HORIZONTAL_UNITS: METERS
HORIZONTAL_RESOLUTION: 1.00000
SECONDARY_HORIZONTAL_DATUM: NAD27
XY_ORIGIN: 719790.00000 5293200.00000
SECONDARY_XY_ORIGIN: 719867.30700 5292990.69100
NATION: US
STATE: MT
NW_QUAD_CORNER_XY: 720171.70600 5292693.91100
NE_QUAD_CORNER_XY: 724855.80700 5292873.72700
SE_QUAD_CORNERY_XY: 725125.10700 5285928.35000
SW_QUAD_CORNER_XY: 720435.38800 5285748.49700
SECONDARY_NW_QUAD_XY: 720178.60000 5292475.22800
SECONDARY_NE_QUAD_XY: 724862.84700 5292655.04900
SECONDARY_SE_QUAD_XY: 725132.14800 5285709.69000
SECONDARY_SW_QUAD_XY: 720442.28100 5285529.83200
RMSE_XY: 2.30000
IMAGE_SOURCE: BLACK AND WHITE FILM
SOURCE_IMAGE_ID: NAPP 2641 121
SOURCE_IMAGE_DATE: 1990 7 1
SOURCE_DEM_DATE: 1995 10 31
AGENCY: WESTERN MAPPING CENTER (WMC)
PRODUCER: Analytical Surveys
PRODUCTION_SYSTEM: ORBIT OR_RECTIFY V.5.2
COMPRESSION: UNDEFINED
STANDARD_VERSION: 1996 12
METADATA_DATE: 1997 7 3
DATA_FILE_SIZE: 43828440
BYTE_COUNT: 5640
