FILENAME: O4711424.NWS.48083.tif
QUADRANGLE_NAME: EAST BAY
QUADRANT: NW
WEST_LONGITUDE: -114 7 30.00000
EAST_LONGITUDE: -114 3 45.00000
NORTH_LATITUDE: 47 45 0.00000
SOUTH_LATITUDE: 47 41 15.00000
PRODUCTION_DATE: 1995 10 31
RASTER_ORDER: LEFT_RIGHT/TOP_BOTTOM
BAND_ORGANIZATION: SINGLE FILE
BAND_CONTENT: BLACK&WHITE
BAND_CONTENT: UNDEFINED
BAND_CONTENT: UNDEFINED
BITS_PER_PIXEL: 8
SAMPLES_AND_LINES: 5640 7770
HORIZONTAL_DATUM: NAD83
HORIZONTAL_COORDINATE_SYSTEM: UTM
COORDINATE_ZONE: 11
HORIZONTAL_UNITS: METERS
HORIZONTAL_RESOLUTION: 1.00000
SECONDARY_HORIZONTAL_DATUM: NAD27
XY_ORIGIN: 715110.00000 5293020.00000
SECONDARY_XY_ORIGIN: 715187.46800 5292810.64200
NATION: US
STATE: MT
NW_QUAD_CORNER_XY: 715487.58000 5292517.88700
NE_QUAD_CORNER_XY: 720171.70600 5292693.91100
SE_QUAD_CORNERY_XY: 720435.38800 5285748.49700
SW_QUAD_CORNER_XY: 715745.64400 5285572.43600
SECONDARY_NW_QUAD_XY: 715494.32800 5292299.19800
SECONDARY_NE_QUAD_XY: 720178.60000 5292475.22800
SECONDARY_SE_QUAD_XY: 720442.28100 5285529.83200
SECONDARY_SW_QUAD_XY: 715752.39000 5285353.76500
RMSE_XY: 5.20000
IMAGE_SOURCE: BLACK AND WHITE FILM
SOURCE_IMAGE_ID: NAPP 2641 090
SOURCE_IMAGE_DATE: 1990 7 1
SOURCE_DEM_DATE: 1995 10 31
AGENCY: WESTERN MAPPING CENTER (WMC)
PRODUCER: Analytical Surveys
PRODUCTION_SYSTEM: ORBIT OR_RECTIFY V.5.2
COMPRESSION: UNDEFINED
STANDARD_VERSION: 1996 12
METADATA_DATE: 1997 7 3
DATA_FILE_SIZE: 43828440
BYTE_COUNT: 5640
