FILENAME: O4711424.SES.48084.tif
QUADRANGLE_NAME: EAST BAY
QUADRANT: SE
WEST_LONGITUDE: -114 3 45.00000
EAST_LONGITUDE: -114 0 0.00000
NORTH_LATITUDE: 47 41 15.00000
SOUTH_LATITUDE: 47 37 30.00000
PRODUCTION_DATE: 1995 10 31
RASTER_ORDER: LEFT_RIGHT/TOP_BOTTOM
BAND_ORGANIZATION: SINGLE FILE
BAND_CONTENT: BLACK&WHITE
BAND_CONTENT: UNDEFINED
BAND_CONTENT: UNDEFINED
BITS_PER_PIXEL: 8
SAMPLES_AND_LINES: 5640 7770
HORIZONTAL_DATUM: NAD83
HORIZONTAL_COORDINATE_SYSTEM: UTM
COORDINATE_ZONE: 11
HORIZONTAL_UNITS: METERS
HORIZONTAL_RESOLUTION: 1.00000
SECONDARY_HORIZONTAL_DATUM: NAD27
XY_ORIGIN: 720060.00000 5286240.00000
SECONDARY_XY_ORIGIN: 720137.39400 5286030.87500
NATION: US
STATE: MT
NW_QUAD_CORNER_XY: 720435.38800 5285748.49700
NE_QUAD_CORNER_XY: 725125.10700 5285928.35000
SE_QUAD_CORNERY_XY: 725394.13900 5278983.02700
SW_QUAD_CORNER_XY: 720698.80600 5278803.13800
SECONDARY_NW_QUAD_XY: 720442.28100 5285529.83200
SECONDARY_NE_QUAD_XY: 725132.14800 5285709.69000
SECONDARY_SE_QUAD_XY: 725401.17800 5278764.38700
SECONDARY_SW_QUAD_XY: 720705.69900 5278584.49300
RMSE_XY: 2.80000
IMAGE_SOURCE: BLACK AND WHITE FILM
SOURCE_IMAGE_ID: NAPP 2641 123
SOURCE_IMAGE_DATE: 1990 7 1
SOURCE_DEM_DATE: 1995 10 31
AGENCY: WESTERN MAPPING CENTER (WMC)
PRODUCER: Analytical Surveys
PRODUCTION_SYSTEM: ORBIT OR_RECTIFY V.5.2
COMPRESSION: UNDEFINED
STANDARD_VERSION: 1996 12
METADATA_DATE: 1997 7 3
DATA_FILE_SIZE: 43828440
BYTE_COUNT: 5640
