FILENAME: O4711423.SES.48214.tif
QUADRANGLE_NAME: POLSON
QUADRANT: SE
WEST_LONGITUDE: -114 11 15.00000
EAST_LONGITUDE: -114 7 30.00000
NORTH_LATITUDE: 47 41 15.00000
SOUTH_LATITUDE: 47 37 30.00000
PRODUCTION_DATE: 1995 10 31
RASTER_ORDER: LEFT_RIGHT/TOP_BOTTOM
BAND_ORGANIZATION: SINGLE FILE
BAND_CONTENT: BLACK&WHITE
BAND_CONTENT: UNDEFINED
BAND_CONTENT: UNDEFINED
BITS_PER_PIXEL: 8
SAMPLES_AND_LINES: 5640 7740
HORIZONTAL_DATUM: NAD83
HORIZONTAL_COORDINATE_SYSTEM: UTM
COORDINATE_ZONE: 11
HORIZONTAL_UNITS: METERS
HORIZONTAL_RESOLUTION: 1.00000
SECONDARY_HORIZONTAL_DATUM: NAD27
XY_ORIGIN: 710670.00000 5285880.00000
SECONDARY_XY_ORIGIN: 710747.71600 5285670.77600
NATION: US
STATE: MT
NW_QUAD_CORNER_XY: 711055.87600 5285400.16700
NE_QUAD_CORNER_XY: 715745.64400 5285572.43600
SE_QUAD_CORNERY_XY: 716003.44900 5278627.04200
SW_QUAD_CORNER_XY: 711308.06800 5278454.73800
SECONDARY_NW_QUAD_XY: 711062.47600 5285181.49100
SECONDARY_NE_QUAD_XY: 715752.39000 5285353.76500
SECONDARY_SE_QUAD_XY: 716010.19500 5278408.39100
SECONDARY_SW_QUAD_XY: 711314.66800 5278236.08100
RMSE_XY: 3.10000
IMAGE_SOURCE: BLACK AND WHITE FILM
SOURCE_IMAGE_ID: NAPP 2641 061
SOURCE_IMAGE_DATE: 1990 7 1
SOURCE_DEM_DATE: 1995 10 31
AGENCY: WESTERN MAPPING CENTER (WMC)
PRODUCER: Analytical Surveys
PRODUCTION_SYSTEM: ORBIT OR_RECTIFY V.5.2
COMPRESSION: UNDEFINED
STANDARD_VERSION: 1996 12
METADATA_DATE: 1997 7 3
DATA_FILE_SIZE: 43659240
BYTE_COUNT: 5640
