FILENAME: O4711421.NES.48476.tif
QUADRANGLE_NAME: IRVINE HILL
QUADRANT: NE
WEST_LONGITUDE: -114 26 15.00000
EAST_LONGITUDE: -114 22 30.00000
NORTH_LATITUDE: 47 45 0.00000
SOUTH_LATITUDE: 47 41 15.00000
PRODUCTION_DATE: 1995 10 25
RASTER_ORDER: LEFT_RIGHT/TOP_BOTTOM
BAND_ORGANIZATION: SINGLE FILE
BAND_CONTENT: BLACK&WHITE
BAND_CONTENT: UNDEFINED
BAND_CONTENT: UNDEFINED
BITS_PER_PIXEL: 8
SAMPLES_AND_LINES: 5610 7770
HORIZONTAL_DATUM: NAD83
HORIZONTAL_COORDINATE_SYSTEM: UTM
COORDINATE_ZONE: 11
HORIZONTAL_UNITS: METERS
HORIZONTAL_RESOLUTION: 1.00000
SECONDARY_HORIZONTAL_DATUM: NAD27
XY_ORIGIN: 691680.00000 5292180.00000
SECONDARY_XY_ORIGIN: 691757.76400 5291970.54300
NATION: US
STATE: MT
NW_QUAD_CORNER_XY: 692066.59400 5291694.62100
NE_QUAD_CORNER_XY: 696750.83700 5291851.69500
SE_QUAD_CORNERY_XY: 696986.43200 5284906.10600
SW_QUAD_CORNER_XY: 692296.57300 5284749.00000
SECONDARY_NW_QUAD_XY: 692072.60800 5291475.90600
SECONDARY_NE_QUAD_XY: 696756.99800 5291632.98500
SECONDARY_SE_QUAD_XY: 696992.59200 5284687.41500
SECONDARY_SW_QUAD_XY: 692302.58600 5284530.30400
RMSE_XY: 1.50000
IMAGE_SOURCE: BLACK AND WHITE FILM
SOURCE_IMAGE_ID: NAPP 2640 168
SOURCE_IMAGE_DATE: 1990 7 1
SOURCE_DEM_DATE: 1995 10 25
AGENCY: WESTERN MAPPING CENTER (WMC)
PRODUCER: Analytical Surveys
PRODUCTION_SYSTEM: ORBIT OR_RECTIFY V.5.2
COMPRESSION: UNDEFINED
STANDARD_VERSION: 1996 12
METADATA_DATE: 1997 7 3
DATA_FILE_SIZE: 43595310
BYTE_COUNT: 5610
