FILENAME: O4711421.SES.48478.tif
QUADRANGLE_NAME: IRVINE HILL
QUADRANT: SE
WEST_LONGITUDE: -114 26 15.00000
EAST_LONGITUDE: -114 22 30.00000
NORTH_LATITUDE: 47 41 15.00000
SOUTH_LATITUDE: 47 37 30.00000
PRODUCTION_DATE: 1995 10 25
RASTER_ORDER: LEFT_RIGHT/TOP_BOTTOM
BAND_ORGANIZATION: SINGLE FILE
BAND_CONTENT: BLACK&WHITE
BAND_CONTENT: UNDEFINED
BAND_CONTENT: UNDEFINED
BITS_PER_PIXEL: 8
SAMPLES_AND_LINES: 5610 7740
HORIZONTAL_DATUM: NAD83
HORIZONTAL_COORDINATE_SYSTEM: UTM
COORDINATE_ZONE: 11
HORIZONTAL_UNITS: METERS
HORIZONTAL_RESOLUTION: 1.00000
SECONDARY_HORIZONTAL_DATUM: NAD27
XY_ORIGIN: 691920.00000 5285220.00000
SECONDARY_XY_ORIGIN: 691997.82900 5285010.63800
NATION: US
STATE: MT
NW_QUAD_CORNER_XY: 692296.57300 5284749.00000
NE_QUAD_CORNER_XY: 696986.43200 5284906.10600
SE_QUAD_CORNERY_XY: 697221.79100 5277960.57800
SW_QUAD_CORNER_XY: 692526.32200 5277803.44000
SECONDARY_NW_QUAD_XY: 692302.58600 5284530.30400
SECONDARY_NE_QUAD_XY: 696992.59200 5284687.41500
SECONDARY_SE_QUAD_XY: 697227.95000 5277741.90600
SECONDARY_SW_QUAD_XY: 692532.33400 5277584.76300
RMSE_XY: 1.80000
IMAGE_SOURCE: BLACK AND WHITE FILM
SOURCE_IMAGE_ID: NAPP 2640 170
SOURCE_IMAGE_DATE: 1990 7 1
SOURCE_DEM_DATE: 1995 10 25
AGENCY: WESTERN MAPPING CENTER (WMC)
PRODUCER: Analytical Surveys
PRODUCTION_SYSTEM: ORBIT OR_RECTIFY V.5.2
COMPRESSION: UNDEFINED
STANDARD_VERSION: 1996 12
METADATA_DATE: 1997 7 3
DATA_FILE_SIZE: 43427010
BYTE_COUNT: 5610
