FILENAME: O4711420.NWS.48657.tif
QUADRANGLE_NAME: HOT SPRINGS NE
QUADRANT: NW
WEST_LONGITUDE: -114 37 30.00000
EAST_LONGITUDE: -114 33 45.00000
NORTH_LATITUDE: 47 45 0.00000
SOUTH_LATITUDE: 47 41 15.00000
PRODUCTION_DATE: 1995 10 25
RASTER_ORDER: LEFT_RIGHT/TOP_BOTTOM
BAND_ORGANIZATION: SINGLE FILE
BAND_CONTENT: BLACK&WHITE
BAND_CONTENT: UNDEFINED
BAND_CONTENT: UNDEFINED
BITS_PER_PIXEL: 8
SAMPLES_AND_LINES: 5580 7710
HORIZONTAL_DATUM: NAD83
HORIZONTAL_COORDINATE_SYSTEM: UTM
COORDINATE_ZONE: 11
HORIZONTAL_UNITS: METERS
HORIZONTAL_RESOLUTION: 1.00000
SECONDARY_HORIZONTAL_DATUM: NAD27
XY_ORIGIN: 677640.00000 5291700.00000
SECONDARY_XY_ORIGIN: 677717.50200 5291490.26000
NATION: US
STATE: MT
NW_QUAD_CORNER_XY: 678013.73700 5291246.13500
NE_QUAD_CORNER_XY: 682698.04300 5291391.84200
SE_QUAD_CORNERY_XY: 682916.79200 5284446.15800
SW_QUAD_CORNER_XY: 678226.87000 5284300.42100
SECONDARY_NW_QUAD_XY: 678019.31000 5291027.40600
SECONDARY_NE_QUAD_XY: 682703.76400 5291173.11700
SECONDARY_SE_QUAD_XY: 682922.51200 5284227.45300
SECONDARY_SW_QUAD_XY: 678232.44300 5284081.71100
RMSE_XY: 1.20000
IMAGE_SOURCE: BLACK AND WHITE FILM
SOURCE_IMAGE_ID: NAPP 2640 034
SOURCE_IMAGE_DATE: 1990 7 1
SOURCE_DEM_DATE: 1995 10 25
AGENCY: WESTERN MAPPING CENTER (WMC)
PRODUCER: Analytical Surveys
PRODUCTION_SYSTEM: ORBIT OR_RECTIFY V.5.2
COMPRESSION: UNDEFINED
STANDARD_VERSION: 1996 12
METADATA_DATE: 1997 7 4
DATA_FILE_SIZE: 43027380
BYTE_COUNT: 5580
