FILENAME: O4711415.NES.48208.tif
QUADRANGLE_NAME: WILD HORSE ISLAND
QUADRANT: NE
WEST_LONGITUDE: -114 11 15.00000
EAST_LONGITUDE: -114 7 30.00000
NORTH_LATITUDE: 47 52 30.00000
SOUTH_LATITUDE: 47 48 45.00000
PRODUCTION_DATE: 1995 10 25
RASTER_ORDER: LEFT_RIGHT/TOP_BOTTOM
BAND_ORGANIZATION: SINGLE FILE
BAND_CONTENT: BLACK&WHITE
BAND_CONTENT: UNDEFINED
BAND_CONTENT: UNDEFINED
BITS_PER_PIXEL: 8
SAMPLES_AND_LINES: 5610 7770
HORIZONTAL_DATUM: NAD83
HORIZONTAL_COORDINATE_SYSTEM: UTM
COORDINATE_ZONE: 11
HORIZONTAL_UNITS: METERS
HORIZONTAL_RESOLUTION: 1.00000
SECONDARY_HORIZONTAL_DATUM: NAD27
XY_ORIGIN: 709920.00000 5306730.00000
SECONDARY_XY_ORIGIN: 709997.56400 5306519.98200
NATION: US
STATE: MT
NW_QUAD_CORNER_XY: 710297.78300 5306236.80000
NE_QUAD_CORNER_XY: 714970.68000 5306408.96000
SE_QUAD_CORNERY_XY: 715229.25900 5299463.39500
SW_QUAD_CORNER_XY: 710550.73200 5299291.19800
SECONDARY_NW_QUAD_XY: 710304.38400 5306018.07100
SECONDARY_NE_QUAD_XY: 714977.42900 5306190.23600
SECONDARY_SE_QUAD_XY: 715236.00700 5299244.68800
SECONDARY_SW_QUAD_XY: 710557.33400 5299072.48600
RMSE_XY: 4.00000
IMAGE_SOURCE: BLACK AND WHITE FILM
SOURCE_IMAGE_ID: NAPP 2641 055
SOURCE_IMAGE_DATE: 1990 7 1
SOURCE_DEM_DATE: 1995 10 25
AGENCY: WESTERN MAPPING CENTER (WMC)
PRODUCER: Analytical Surveys
PRODUCTION_SYSTEM: ORBIT OR_RECTIFY V.5.2
COMPRESSION: UNDEFINED
STANDARD_VERSION: 1996 12
METADATA_DATE: 1997 7 4
DATA_FILE_SIZE: 43595310
BYTE_COUNT: 5610
