FILENAME: O4711414.NES.48332.tif
QUADRANGLE_NAME: ELMO
QUADRANT: NE
WEST_LONGITUDE: -114 18 45.00000
EAST_LONGITUDE: -114 15 0.00000
NORTH_LATITUDE: 47 52 30.00000
SOUTH_LATITUDE: 47 48 45.00000
PRODUCTION_DATE: 1995 10 25
RASTER_ORDER: LEFT_RIGHT/TOP_BOTTOM
BAND_ORGANIZATION: SINGLE FILE
BAND_CONTENT: BLACK&WHITE
BAND_CONTENT: UNDEFINED
BAND_CONTENT: UNDEFINED
BITS_PER_PIXEL: 8
SAMPLES_AND_LINES: 5640 7740
HORIZONTAL_DATUM: NAD83
HORIZONTAL_COORDINATE_SYSTEM: UTM
COORDINATE_ZONE: 11
HORIZONTAL_UNITS: METERS
HORIZONTAL_RESOLUTION: 1.00000
SECONDARY_HORIZONTAL_DATUM: NAD27
XY_ORIGIN: 700560.00000 5306370.00000
SECONDARY_XY_ORIGIN: 700637.68800 5306159.90200
NATION: US
STATE: MT
NW_QUAD_CORNER_XY: 700951.91300 5305903.84700
NE_QUAD_CORNER_XY: 705624.86000 5306068.42900
SE_QUAD_CORNERY_XY: 705872.18100 5299122.79000
SW_QUAD_CORNER_XY: 701193.60600 5298958.17200
SECONDARY_NW_QUAD_XY: 700958.22100 5305685.10700
SECONDARY_NE_QUAD_XY: 705631.31500 5305849.69500
SECONDARY_SE_QUAD_XY: 705878.63600 5298904.07300
SECONDARY_SW_QUAD_XY: 701199.91400 5298739.45000
RMSE_XY: 6.10000
IMAGE_SOURCE: BLACK AND WHITE FILM
SOURCE_IMAGE_ID: NAPP 2640 246
SOURCE_IMAGE_DATE: 1990 7 1
SOURCE_DEM_DATE: 1995 10 25
AGENCY: WESTERN MAPPING CENTER (WMC)
PRODUCER: Analytical Surveys
PRODUCTION_SYSTEM: ORBIT OR_RECTIFY V.5.2
COMPRESSION: UNDEFINED
STANDARD_VERSION: 1996 12
METADATA_DATE: 1997 7 3
DATA_FILE_SIZE: 43659240
BYTE_COUNT: 5640
