FILENAME: O4711412.NWS.48653.tif
QUADRANGLE_NAME: NIARADA
QUADRANT: NW
WEST_LONGITUDE: -114 37 30.00000
EAST_LONGITUDE: -114 33 45.00000
NORTH_LATITUDE: 47 52 30.00000
SOUTH_LATITUDE: 47 48 45.00000
PRODUCTION_DATE: 1995 10 25
RASTER_ORDER: LEFT_RIGHT/TOP_BOTTOM
BAND_ORGANIZATION: SINGLE FILE
BAND_CONTENT: BLACK&WHITE
BAND_CONTENT: UNDEFINED
BAND_CONTENT: UNDEFINED
BITS_PER_PIXEL: 8
SAMPLES_AND_LINES: 5610 7710
HORIZONTAL_DATUM: NAD83
HORIZONTAL_COORDINATE_SYSTEM: UTM
COORDINATE_ZONE: 11
HORIZONTAL_UNITS: METERS
HORIZONTAL_RESOLUTION: 1.00000
SECONDARY_HORIZONTAL_DATUM: NAD27
XY_ORIGIN: 677190.00000 5305590.00000
SECONDARY_XY_ORIGIN: 677267.30100 5305379.74000
NATION: US
STATE: MT
NW_QUAD_CORNER_XY: 677586.83000 5305137.75100
NE_QUAD_CORNER_XY: 682259.89100 5305283.39600
SE_QUAD_CORNERY_XY: 682479.07600 5298337.58700
SW_QUAD_CORNER_XY: 677800.39000 5298191.91100
SECONDARY_NW_QUAD_XY: 677592.40400 5304918.98700
SECONDARY_NE_QUAD_XY: 682265.61200 5305064.63700
SECONDARY_SE_QUAD_XY: 682484.79700 5298118.84500
SECONDARY_SW_QUAD_XY: 677805.96400 5297973.16500
RMSE_XY: 1.70000
IMAGE_SOURCE: BLACK AND WHITE FILM
SOURCE_IMAGE_ID: NAPP 2640 038
SOURCE_IMAGE_DATE: 1990 7 1
SOURCE_DEM_DATE: 1995 10 25
AGENCY: WESTERN MAPPING CENTER (WMC)
PRODUCER: Analytical Surveys
PRODUCTION_SYSTEM: ORBIT OR_RECTIFY V.5.2
COMPRESSION: UNDEFINED
STANDARD_VERSION: 1996 12
METADATA_DATE: 1997 7 3
DATA_FILE_SIZE: 43258710
BYTE_COUNT: 5610
