Note: This header file was extracted from a digital orthophoto image that covers a full 7.5-minute quadrangle in Universal Transverse Mercator Coordinates. The State Library converted that image to Montana State Plane Coordinates, units meters, and extracted portions of the image that cover a 3.75-minute quarter-quadrangle. The coordinates given in this file do not apply to the State Plane Coordinate images.
BEGIN_USGS_DOQ_HEADER *
QUADRANGLE_NAME "MILL POCKET CREEK" *
QUADRANT *
WEST_LONGITUDE -114 45 0.000 *
EAST_LONGITUDE -114 37 30.000 *
NORTH_LATITUDE 47 52 30.000 *
SOUTH_LATITUDE 47 45 0.000 *
PRODUCTION_DATE 2004 9 14 *
RASTER_ORDER LEFT_RIGHT/TOP_BOTTOM *
BAND_ORGANIZATION "SINGLE FILE" *
BAND_CONTENT BLACK&WHITE *
BITS_PER_PIXEL 8 *
SAMPLES_AND_LINES 10445 14776 *
HORIZONTAL_DATUM NAD83 *
HORIZONTAL_COORDINATE_SYSTEM UTM *
COORDINATE_ZONE 11 *
HORIZONTAL_UNITS METERS *
HORIZONTAL_RESOLUTION 1.0 *
SECONDARY_HORIZONTAL_DATUM NAD27 *
XY_ORIGIN 667868.420 5305441.800 *
SECONDARY_XY_ORIGIN 667945.557 5305231.380 *
NATION US *
STATE MT *
NW_QUAD_CORNER_XY 668240.645 5304857.822 *
NE_QUAD_CORNER_XY 677586.830 5305137.751 *
SE_QUAD_CORNER_XY 678013.737 5291246.135 *
SW_QUAD_CORNER_XY 668645.063 5290966.086 *
SECONDARY_NW_QUAD_XY 668245.930 5304639.050 *
SECONDARY_NE_QUAD_XY 677592.405 5304918.988 *
SECONDARY_SE_QUAD_XY 678019.311 5291027.406 *
SECONDARY_SW_QUAD_XY 668650.346 5290747.349 *
RMSE_XY 1.07 *
IMAGE_SOURCE "BLACK AND WHITE FILM" *
SOURCE_IMAGE_ID "NAPP 12662 44" *
SOURCE_IMAGE_DATE 2002 9 25 *
SOURCE_IMAGE_ID "NAPP 12662 42" *
SOURCE_IMAGE_DATE 2002 9 25 *
SOURCE_IMAGE_ID "NAPP 12664 148" *
SOURCE_IMAGE_DATE 2003 6 18 *
SOURCE_IMAGE_ID "NAPP 12664 146" *
SOURCE_IMAGE_DATE 2003 6 18 *
SOURCE_IMAGE_ID "NAPP 12662 45" *
SOURCE_IMAGE_DATE 2002 9 25 *
SOURCE_IMAGE_ID "NAPP 12662 43" *
SOURCE_IMAGE_DATE 2002 9 25 *
SOURCE_IMAGE_ID "NAPP 12664 145" *
SOURCE_IMAGE_DATE 2003 6 18 *
SOURCE_IMAGE_ID "NAPP 12664 147" *
SOURCE_IMAGE_DATE 2003 6 18 *
SOURCE_IMAGE_ID "NAPP 12664 149" *
SOURCE_IMAGE_DATE 2003 6 18 *
SOURCE_IMAGE_ID "NAPP 12673 13" *
SOURCE_IMAGE_DATE 2003 7 23 *
SOURCE_IMAGE_ID "NAPP 12673 14" *
SOURCE_IMAGE_DATE 2003 7 23 *
SOURCE_IMAGE_ID "NAPP 12673 15" *
SOURCE_IMAGE_DATE 2003 7 23 *
SOURCE_IMAGE_ID "NAPP 12673 16" *
SOURCE_IMAGE_DATE 2003 7 23 *
SOURCE_IMAGE_ID "NAPP 12673 17" *
SOURCE_IMAGE_DATE 2003 7 23 *
SOURCE_DEM_DATE 2004 1 1 *
AGENCY "WESTERN MAPPING CENTER (WMC)" *
PRODUCER "USDA FS GEOSPATIAL SERVICE AND TECHNOLOGY CENTER" *
PRODUCTION_SYSTEM "ORBIT OR_RECTIFY V.5.2" *
STANDARD_VERSION 1996 12 *
METADATA_DATE 2004 10 1 *
DATA_FILE_SIZE 154345765 *
BYTE_COUNT 10445 * *
