FILENAME: O4711408.SES.48081.tif
QUADRANGLE_NAME: WOODS BAY
QUADRANT: SE
WEST_LONGITUDE: -114 3 45.00000
EAST_LONGITUDE: -114 0 0.00000
NORTH_LATITUDE: 47 56 15.00000
SOUTH_LATITUDE: 47 52 30.00000
PRODUCTION_DATE: 1994 11 4
RASTER_ORDER: LEFT_RIGHT/TOP_BOTTOM
BAND_ORGANIZATION: SINGLE FILE
BAND_CONTENT: BLACK&WHITE
BAND_CONTENT: UNDEFINED
BAND_CONTENT: UNDEFINED
BITS_PER_PIXEL: 8
SAMPLES_AND_LINES: 5611 7737
HORIZONTAL_DATUM: NAD83
HORIZONTAL_COORDINATE_SYSTEM: UTM
COORDINATE_ZONE: 11
HORIZONTAL_UNITS: METERS
HORIZONTAL_RESOLUTION: 1.00000
SECONDARY_HORIZONTAL_DATUM: NAD27
XY_ORIGIN: 719007.00000 5314011.00000
SECONDARY_XY_ORIGIN: 719084.18700 5313800.72800
NATION: US
STATE: MT
NW_QUAD_CORNER_XY: 719379.08100 5313530.49200
NE_QUAD_CORNER_XY: 724046.29100 5313710.19100
SE_QUAD_CORNERY_XY: 724316.39800 5306764.64700
SW_QUAD_CORNER_XY: 719643.55200 5306584.90900
SECONDARY_NW_QUAD_XY: 719385.97700 5313311.75800
SECONDARY_NE_QUAD_XY: 724053.33400 5313491.46200
SECONDARY_SE_QUAD_XY: 724323.44000 5306545.93500
SECONDARY_SW_QUAD_XY: 719650.44800 5306366.19100
RMSE_XY: 3.20000
IMAGE_SOURCE: BLACK AND WHITE FILM
SOURCE_IMAGE_ID: NAPP 2641 115
SOURCE_IMAGE_DATE: 1990 7 1
SOURCE_DEM_DATE: 1994 11 4
AGENCY: WESTERN MAPPING CENTER (WMC)
PRODUCER: Science Applications International
PRODUCTION_SYSTEM: GIS/MAGIC
COMPRESSION: UNDEFINED
STANDARD_VERSION: 1996 12
METADATA_DATE: 1997 6 19
DATA_FILE_SIZE: 43417918
BYTE_COUNT: 5611
