FILENAME: O4711407.SES.48206.tif
QUADRANGLE_NAME: ROLLINS
QUADRANT: SE
WEST_LONGITUDE: -114 11 15.00000
EAST_LONGITUDE: -114 7 30.00000
NORTH_LATITUDE: 47 56 15.00000
SOUTH_LATITUDE: 47 52 30.00000
PRODUCTION_DATE: 1994 11 4
RASTER_ORDER: LEFT_RIGHT/TOP_BOTTOM
BAND_ORGANIZATION: SINGLE FILE
BAND_CONTENT: BLACK&WHITE
BAND_CONTENT: UNDEFINED
BAND_CONTENT: UNDEFINED
BITS_PER_PIXEL: 8
SAMPLES_AND_LINES: 5600 7729
HORIZONTAL_DATUM: NAD83
HORIZONTAL_COORDINATE_SYSTEM: UTM
COORDINATE_ZONE: 11
HORIZONTAL_UNITS: METERS
HORIZONTAL_RESOLUTION: 1.00000
SECONDARY_HORIZONTAL_DATUM: NAD27
XY_ORIGIN: 709672.00000 5313655.00000
SECONDARY_XY_ORIGIN: 709749.49900 5313444.70400
NATION: US
STATE: MT
NW_QUAD_CORNER_XY: 710044.58100 5313182.46000
NE_QUAD_CORNER_XY: 714711.84400 5313354.58200
SE_QUAD_CORNERY_XY: 714970.68000 5306408.96000
SW_QUAD_CORNER_XY: 710297.78300 5306236.80000
SECONDARY_NW_QUAD_XY: 710051.18300 5312963.71500
SECONDARY_NE_QUAD_XY: 714718.59300 5313135.84200
SECONDARY_SE_QUAD_XY: 714977.42900 5306190.23600
SECONDARY_SW_QUAD_XY: 710304.38400 5306018.07100
RMSE_XY: 1.50000
IMAGE_SOURCE: BLACK AND WHITE FILM
SOURCE_IMAGE_ID: NAPP 2641 053
SOURCE_IMAGE_DATE: 1990 7 1
SOURCE_DEM_DATE: 1994 11 4
AGENCY: WESTERN MAPPING CENTER (WMC)
PRODUCER: Science Applications International
PRODUCTION_SYSTEM: GIS/MAGIC
COMPRESSION: UNDEFINED
STANDARD_VERSION: 1996 12
METADATA_DATE: 1997 6 19
DATA_FILE_SIZE: 43288000
BYTE_COUNT: 5600
