FILENAME: O4711406.NES.48328.tif
QUADRANGLE_NAME: PROCTOR
QUADRANT: NE
WEST_LONGITUDE: -114 18 45.00000
EAST_LONGITUDE: -114 15 0.00000
NORTH_LATITUDE: 48 0 0.00000
SOUTH_LATITUDE: 47 56 15.00000
PRODUCTION_DATE: 1994 10 6
RASTER_ORDER: LEFT_RIGHT/TOP_BOTTOM
BAND_ORGANIZATION: SINGLE FILE
BAND_CONTENT: BLACK&WHITE
BAND_CONTENT: UNDEFINED
BAND_CONTENT: UNDEFINED
BITS_PER_PIXEL: 8
SAMPLES_AND_LINES: 5584 7721
HORIZONTAL_DATUM: NAD83
HORIZONTAL_COORDINATE_SYSTEM: UTM
COORDINATE_ZONE: 11
HORIZONTAL_UNITS: METERS
HORIZONTAL_RESOLUTION: 1.00000
SECONDARY_HORIZONTAL_DATUM: NAD27
XY_ORIGIN: 700095.00000 5320260.00000
SECONDARY_XY_ORIGIN: 700172.59100 5320049.36200
NATION: US
STATE: MT
NW_QUAD_CORNER_XY: 700467.80500 5319795.37300
NE_QUAD_CORNER_XY: 705129.47900 5319959.88200
SE_QUAD_CORNERY_XY: 705377.29200 5313014.12600
SW_QUAD_CORNER_XY: 700709.97900 5312849.58000
SECONDARY_NW_QUAD_XY: 700474.11400 5319576.60200
SECONDARY_NE_QUAD_XY: 705135.93500 5319741.11600
SECONDARY_SE_QUAD_XY: 705383.74800 5312795.37600
SECONDARY_SW_QUAD_XY: 700716.28800 5312630.82400
RMSE_XY: 1.80000
IMAGE_SOURCE: BLACK AND WHITE FILM
SOURCE_IMAGE_ID: NAPP 2662 010
SOURCE_IMAGE_DATE: 1991 8 30
SOURCE_DEM_DATE: 1994 10 6
AGENCY: WESTERN MAPPING CENTER (WMC)
PRODUCER: Science Applications International
PRODUCTION_SYSTEM: GIS/MAGIC
COMPRESSION: UNDEFINED
STANDARD_VERSION: 1996 12
METADATA_DATE: 1997 6 19
DATA_FILE_SIZE: 43119648
BYTE_COUNT: 5584
