FILENAME: O4711405.NES.48468.tif
QUADRANGLE_NAME: LAKE MARY RONAN
QUADRANT: NE
WEST_LONGITUDE: -114 26 15.00000
EAST_LONGITUDE: -114 22 30.00000
NORTH_LATITUDE: 48 0 0.00000
SOUTH_LATITUDE: 47 56 15.00000
PRODUCTION_DATE: 1994 10 6
RASTER_ORDER: LEFT_RIGHT/TOP_BOTTOM
BAND_ORGANIZATION: SINGLE FILE
BAND_CONTENT: BLACK&WHITE
BAND_CONTENT: UNDEFINED
BAND_CONTENT: UNDEFINED
BITS_PER_PIXEL: 8
SAMPLES_AND_LINES: 5573 7714
HORIZONTAL_DATUM: NAD83
HORIZONTAL_COORDINATE_SYSTEM: UTM
COORDINATE_ZONE: 11
HORIZONTAL_UNITS: METERS
HORIZONTAL_RESOLUTION: 1.00000
SECONDARY_HORIZONTAL_DATUM: NAD27
XY_ORIGIN: 690771.00000 5319935.00000
SECONDARY_XY_ORIGIN: 690848.57100 5319724.26200
NATION: US
STATE: MT
NW_QUAD_CORNER_XY: 691144.38200 5319477.71400
NE_QUAD_CORNER_XY: 695806.10600 5319634.65000
SE_QUAD_CORNERY_XY: 696042.64100 5312688.82100
SW_QUAD_CORNER_XY: 691375.27900 5312531.84900
SECONDARY_NW_QUAD_XY: 691150.39800 5319258.93300
SECONDARY_NE_QUAD_XY: 695812.26900 5319415.87500
SECONDARY_SE_QUAD_XY: 696048.80300 5312470.06100
SECONDARY_SW_QUAD_XY: 691381.29500 5312313.08400
RMSE_XY: 1.80000
IMAGE_SOURCE: BLACK AND WHITE FILM
SOURCE_IMAGE_ID: NAPP 2640 160
SOURCE_IMAGE_DATE: 1990 7 1
SOURCE_DEM_DATE: 1994 10 6
AGENCY: WESTERN MAPPING CENTER (WMC)
PRODUCER: Science Applications International
PRODUCTION_SYSTEM: GIS/MAGIC
COMPRESSION: UNDEFINED
STANDARD_VERSION: 1996 12
METADATA_DATE: 1997 6 19
DATA_FILE_SIZE: 42995695
BYTE_COUNT: 5573
