FILENAME: O4711403.NES.48852.tif
QUADRANGLE_NAME: HUBBART RESERVOIR
QUADRANT: NE
WEST_LONGITUDE: -114 41 15.00000
EAST_LONGITUDE: -114 37 30.00000
NORTH_LATITUDE: 48 0 0.00000
SOUTH_LATITUDE: 47 56 15.00000
PRODUCTION_DATE: 1994 11 4
RASTER_ORDER: LEFT_RIGHT/TOP_BOTTOM
BAND_ORGANIZATION: SINGLE FILE
BAND_CONTENT: BLACK&WHITE
BAND_CONTENT: UNDEFINED
BAND_CONTENT: UNDEFINED
BITS_PER_PIXEL: 8
SAMPLES_AND_LINES: 5551 7699
HORIZONTAL_DATUM: NAD83
HORIZONTAL_COORDINATE_SYSTEM: UTM
COORDINATE_ZONE: 11
HORIZONTAL_UNITS: METERS
HORIZONTAL_RESOLUTION: 1.00000
SECONDARY_HORIZONTAL_DATUM: NAD27
XY_ORIGIN: 672124.00000 5319330.00000
SECONDARY_XY_ORIGIN: 672201.05100 5319119.10500
NATION: US
STATE: MT
NW_QUAD_CORNER_XY: 672497.25700 5318887.82400
NE_QUAD_CORNER_XY: 677159.07200 5319029.61900
SE_QUAD_CORNERY_XY: 677373.05700 5312083.65300
SW_QUAD_CORNER_XY: 672705.60600 5311941.82600
SECONDARY_NW_QUAD_XY: 672502.68600 5318669.02500
SECONDARY_NE_QUAD_XY: 677164.64800 5318810.82400
SECONDARY_SE_QUAD_XY: 677378.63200 5311864.87400
SECONDARY_SW_QUAD_XY: 672711.03400 5311723.04200
RMSE_XY: 1.80000
IMAGE_SOURCE: BLACK AND WHITE FILM
SOURCE_IMAGE_ID: NAPP 2640 006
SOURCE_IMAGE_DATE: 1990 7 1
SOURCE_DEM_DATE: 1994 11 4
AGENCY: WESTERN MAPPING CENTER (WMC)
PRODUCER: Science Applications International
PRODUCTION_SYSTEM: GIS/MAGIC
COMPRESSION: UNDEFINED
STANDARD_VERSION: 1996 12
METADATA_DATE: 1997 7 16
DATA_FILE_SIZE: 42742700
BYTE_COUNT: 5551
