FILENAME: O4711403.SWS.48855.tif
QUADRANGLE_NAME: HUBBART RESERVOIR
QUADRANT: SW
WEST_LONGITUDE: -114 45 0.00000
EAST_LONGITUDE: -114 41 15.00000
NORTH_LATITUDE: 47 56 15.00000
SOUTH_LATITUDE: 47 52 30.00000
PRODUCTION_DATE: 1994 11 4
RASTER_ORDER: LEFT_RIGHT/TOP_BOTTOM
BAND_ORGANIZATION: SINGLE FILE
BAND_CONTENT: BLACK&WHITE
BAND_CONTENT: UNDEFINED
BAND_CONTENT: UNDEFINED
BITS_PER_PIXEL: 8
SAMPLES_AND_LINES: 5550 7695
HORIZONTAL_DATUM: NAD83
HORIZONTAL_COORDINATE_SYSTEM: UTM
COORDINATE_ZONE: 11
HORIZONTAL_UNITS: METERS
HORIZONTAL_RESOLUTION: 1.00000
SECONDARY_HORIZONTAL_DATUM: NAD27
XY_ORIGIN: 667665.00000 5312242.00000
SECONDARY_XY_ORIGIN: 667742.00400 5312031.32500
NATION: US
STATE: MT
NW_QUAD_CORNER_XY: 668038.13400 5311803.78500
NE_QUAD_CORNER_XY: 672705.60600 5311941.82600
SE_QUAD_CORNERY_XY: 672913.74800 5304995.89300
SW_QUAD_CORNER_XY: 668240.64500 5304857.82100
SECONDARY_NW_QUAD_XY: 668043.41600 5311584.99700
SECONDARY_NE_QUAD_XY: 672711.03400 5311723.04200
SECONDARY_SE_QUAD_XY: 672919.17600 5304777.12500
SECONDARY_SW_QUAD_XY: 668245.92600 5304639.04900
RMSE_XY: 1.80000
IMAGE_SOURCE: BLACK AND WHITE FILM
SOURCE_IMAGE_ID: NAPP 2648 017
SOURCE_IMAGE_DATE: 1990 8 16
SOURCE_DEM_DATE: 1994 11 4
AGENCY: WESTERN MAPPING CENTER (WMC)
PRODUCER: Science Applications International
PRODUCTION_SYSTEM: GIS/MAGIC
COMPRESSION: UNDEFINED
STANDARD_VERSION: 1996 12
METADATA_DATE: 1997 7 16
DATA_FILE_SIZE: 42712800
BYTE_COUNT: 5550
