FILENAME: O4711402.NWS.49036.tif
QUADRANGLE_NAME: MURR PEAK
QUADRANT: NW
WEST_LONGITUDE: -114 52 30.00000
EAST_LONGITUDE: -114 48 45.00000
NORTH_LATITUDE: 48 0 0.00000
SOUTH_LATITUDE: 47 56 15.00000
PRODUCTION_DATE: 1994 11 4
RASTER_ORDER: LEFT_RIGHT/TOP_BOTTOM
BAND_ORGANIZATION: SINGLE FILE
BAND_CONTENT: BLACK&WHITE
BAND_CONTENT: UNDEFINED
BAND_CONTENT: UNDEFINED
BITS_PER_PIXEL: 8
SAMPLES_AND_LINES: 5534 7688
HORIZONTAL_DATUM: NAD83
HORIZONTAL_COORDINATE_SYSTEM: UTM
COORDINATE_ZONE: 11
HORIZONTAL_UNITS: METERS
HORIZONTAL_RESOLUTION: 1.00000
SECONDARY_HORIZONTAL_DATUM: NAD27
XY_ORIGIN: 658138.00000 5318916.00000
SECONDARY_XY_ORIGIN: 658215.21300 5318705.01500
NATION: US
STATE: MT
NW_QUAD_CORNER_XY: 658511.68700 5318485.14600
NE_QUAD_CORNER_XY: 663173.56400 5318615.58800
SE_QUAD_CORNERY_XY: 663370.64100 5311669.52900
SW_QUAD_CORNER_XY: 658703.12900 5311539.05800
SECONDARY_NW_QUAD_XY: 658516.67600 5318266.33400
SECONDARY_NE_QUAD_XY: 663178.70000 5318396.78000
SECONDARY_SE_QUAD_XY: 663375.77600 5311450.73600
SECONDARY_SW_QUAD_XY: 658708.11700 5311320.26100
RMSE_XY: 2.30000
IMAGE_SOURCE: BLACK AND WHITE FILM
SOURCE_IMAGE_ID: NAPP 2644 044
SOURCE_IMAGE_DATE: 1990 8 6
SOURCE_DEM_DATE: 1994 11 4
AGENCY: WESTERN MAPPING CENTER (WMC)
PRODUCER: Science Applications International
PRODUCTION_SYSTEM: GIS/MAGIC
COMPRESSION: UNDEFINED
STANDARD_VERSION: 1996 12
METADATA_DATE: 1997 7 16
DATA_FILE_SIZE: 42550926
BYTE_COUNT: 5534
