FILENAME: O4711401.SES.49174.tif
QUADRANGLE_NAME: SHRODER CREEK
QUADRANT: SE
WEST_LONGITUDE: -114 56 15.00000
EAST_LONGITUDE: -114 52 30.00000
NORTH_LATITUDE: 47 56 15.00000
SOUTH_LATITUDE: 47 52 30.00000
PRODUCTION_DATE: 1995 5 4
RASTER_ORDER: LEFT_RIGHT/TOP_BOTTOM
BAND_ORGANIZATION: SINGLE FILE
BAND_CONTENT: BLACK&WHITE
BAND_CONTENT: UNDEFINED
BAND_CONTENT: UNDEFINED
BITS_PER_PIXEL: 8
SAMPLES_AND_LINES: 5534 7684
HORIZONTAL_DATUM: NAD83
HORIZONTAL_COORDINATE_SYSTEM: UTM
COORDINATE_ZONE: 11
HORIZONTAL_UNITS: METERS
HORIZONTAL_RESOLUTION: 1.00000
SECONDARY_HORIZONTAL_DATUM: NAD27
XY_ORIGIN: 653662.00000 5311840.00000
SECONDARY_XY_ORIGIN: 653739.43000 5311629.22000
NATION: US
STATE: MT
NW_QUAD_CORNER_XY: 654035.60000 5311412.37000
NE_QUAD_CORNER_XY: 658703.13000 5311539.06000
SE_QUAD_CORNERY_XY: 658894.38000 5304593.04000
SW_QUAD_CORNER_XY: 654221.22000 5304466.32000
SECONDARY_NW_QUAD_XY: 654040.44000 5311193.57000
SECONDARY_NE_QUAD_XY: 658708.12000 5311320.26000
SECONDARY_SE_QUAD_XY: 658899.37000 5304374.25000
SECONDARY_SW_QUAD_XY: 654226.06000 5304247.54000
RMSE_XY: 1.40000
IMAGE_SOURCE: BLACK AND WHITE FILM
SOURCE_IMAGE_ID: NAPP 2644 115
SOURCE_IMAGE_DATE: 1990 8 6
SOURCE_IMAGE_ID: NAPP 2644 116
SOURCE_IMAGE_DATE: 1990 8 6
SOURCE_IMAGE_ID: NAPP 2644 114
SOURCE_IMAGE_DATE: 1990 8 6
SOURCE_DEM_DATE: 1995 5 4
AGENCY: WESTERN MAPPING CENTER (WMC)
PRODUCER: Science Applications International
PRODUCTION_SYSTEM: GIS/MAGIC
COMPRESSION: UNDEFINED
STANDARD_VERSION: 1996 12
METADATA_DATE: 1997 7 25
DATA_FILE_SIZE: 42528790
BYTE_COUNT: 5534
