FILENAME: O4711527.NES.56616.tif
QUADRANGLE_NAME: THOMPSON PASS
QUADRANT: NE
WEST_LONGITUDE: -115 41 15.00000
EAST_LONGITUDE: -115 37 30.00000
NORTH_LATITUDE: 47 37 30.00000
SOUTH_LATITUDE: 47 33 45.00000
PRODUCTION_DATE: 1997 3 15
RASTER_ORDER: LEFT_RIGHT/TOP_BOTTOM
BAND_ORGANIZATION: SINGLE FILE
BAND_CONTENT: BLACK&WHITE
BAND_CONTENT: UNDEFINED
BAND_CONTENT: UNDEFINED
BITS_PER_PIXEL: 8
SAMPLES_AND_LINES: 5496 7639
HORIZONTAL_DATUM: NAD83
HORIZONTAL_COORDINATE_SYSTEM: UTM
COORDINATE_ZONE: 11
HORIZONTAL_UNITS: METERS
HORIZONTAL_RESOLUTION: 1.00000
SECONDARY_HORIZONTAL_DATUM: NAD27
XY_ORIGIN: 598238.00000 5275839.00000
SECONDARY_XY_ORIGIN: 598315.77400 5275629.20800
NATION: US
STATE: MT
NW_QUAD_CORNER_XY: 598613.23800 5275456.37900
NE_QUAD_CORNER_XY: 603309.02700 5275537.75200
SE_QUAD_CORNERY_XY: 603432.13200 5268591.80900
SW_QUAD_CORNER_XY: 598730.74500 5268510.42000
SECONDARY_NW_QUAD_XY: 598616.31700 5275237.62900
SECONDARY_NE_QUAD_XY: 603312.25300 5275319.00500
SECONDARY_SE_QUAD_XY: 603435.35700 5268373.08200
SECONDARY_SW_QUAD_XY: 598733.82400 5268291.69000
RMSE_XY: 2.80000
IMAGE_SOURCE: BLACK AND WHITE FILM
SOURCE_IMAGE_ID: NAPP 8421 242
SOURCE_IMAGE_DATE: 1995 8 21
SOURCE_DEM_DATE: 1997 3 15
AGENCY: WESTERN MAPPING CENTER (WMC)
PRODUCER: USFS
PRODUCTION_SYSTEM: DV2.6.3 10/9OV2.4 5/95
COMPRESSION: UNDEFINED
STANDARD_VERSION: 1996 12
METADATA_DATE: 1997 11 2
DATA_FILE_SIZE: 41989440
BYTE_COUNT: 5496
