FILENAME: O4711527.SES.56615.tif
QUADRANGLE_NAME: THOMPSON PASS
QUADRANT: SE
WEST_LONGITUDE: -115 41 15.00000
EAST_LONGITUDE: -115 37 30.00000
NORTH_LATITUDE: 47 33 45.00000
SOUTH_LATITUDE: 47 30 0.00000
PRODUCTION_DATE: 1997 3 15
RASTER_ORDER: LEFT_RIGHT/TOP_BOTTOM
BAND_ORGANIZATION: SINGLE FILE
BAND_CONTENT: BLACK&WHITE
BAND_CONTENT: UNDEFINED
BAND_CONTENT: UNDEFINED
BITS_PER_PIXEL: 8
SAMPLES_AND_LINES: 5500 7639
HORIZONTAL_DATUM: NAD83
HORIZONTAL_COORDINATE_SYSTEM: UTM
COORDINATE_ZONE: 11
HORIZONTAL_UNITS: METERS
HORIZONTAL_RESOLUTION: 1.00000
SECONDARY_HORIZONTAL_DATUM: NAD27
XY_ORIGIN: 598355.00000 5268893.00000
SECONDARY_XY_ORIGIN: 598432.00000 5268684.00000
NATION: US
STATE: MT
NW_QUAD_CORNER_XY: 598730.74500 5268510.42000
NE_QUAD_CORNER_XY: 603432.13200 5268591.80900
SE_QUAD_CORNERY_XY: 603555.11300 5261645.93800
SW_QUAD_CORNER_XY: 598848.13500 5261564.53400
SECONDARY_NW_QUAD_XY: 598733.82400 5268291.69000
SECONDARY_NE_QUAD_XY: 603435.35700 5268373.08200
SECONDARY_SE_QUAD_XY: 603558.33800 5261427.23200
SECONDARY_SW_QUAD_XY: 598851.21300 5261345.82500
RMSE_XY: 2.30000
IMAGE_SOURCE: BLACK AND WHITE FILM
SOURCE_IMAGE_ID: NAPP 8421 240
SOURCE_IMAGE_DATE: 1995 8 21
SOURCE_DEM_DATE: 1997 3 15
AGENCY: WESTERN MAPPING CENTER (WMC)
PRODUCER: USFS
PRODUCTION_SYSTEM: DV2.6.3 10/9OV2.4 5/95
COMPRESSION: UNDEFINED
STANDARD_VERSION: 1996 12
METADATA_DATE: 1997 11 2
DATA_FILE_SIZE: 42020000
BYTE_COUNT: 5500
