FILENAME: O4711527.SWS.56639.tif
QUADRANGLE_NAME: THOMPSON PASS
QUADRANT: SW
WEST_LONGITUDE: -115 45 0.00000
EAST_LONGITUDE: -115 41 15.00000
NORTH_LATITUDE: 47 33 45.00000
SOUTH_LATITUDE: 47 30 0.00000
PRODUCTION_DATE: 1997 3 15
RASTER_ORDER: LEFT_RIGHT/TOP_BOTTOM
BAND_ORGANIZATION: SINGLE FILE
BAND_CONTENT: BLACK&WHITE
BAND_CONTENT: UNDEFINED
BAND_CONTENT: UNDEFINED
BITS_PER_PIXEL: 8
SAMPLES_AND_LINES: 5497 7636
HORIZONTAL_DATUM: NAD83
HORIZONTAL_COORDINATE_SYSTEM: UTM
COORDINATE_ZONE: 11
HORIZONTAL_UNITS: METERS
HORIZONTAL_RESOLUTION: 1.00000
SECONDARY_HORIZONTAL_DATUM: NAD27
XY_ORIGIN: 593654.00000 5268815.00000
SECONDARY_XY_ORIGIN: 593731.59000 5268605.16000
NATION: US
STATE: MT
STATE: ID
NW_QUAD_CORNER_XY: 594029.42000 5268432.78000
NE_QUAD_CORNER_XY: 598730.81000 5268510.38000
SE_QUAD_CORNERY_XY: 598848.20000 5261564.49000
SW_QUAD_CORNER_XY: 594141.21000 5261486.88000
SECONDARY_NW_QUAD_XY: 594032.35000 5268214.04000
SECONDARY_NE_QUAD_XY: 598733.89000 5268291.65000
SECONDARY_SE_QUAD_XY: 598851.28000 5261345.78000
SECONDARY_SW_QUAD_XY: 594144.15000 5261268.16000
RMSE_XY: 2.50000
IMAGE_SOURCE: BLACK AND WHITE FILM
SOURCE_IMAGE_ID: NAPP 8419 6
SOURCE_IMAGE_DATE: 1995 8 21
SOURCE_IMAGE_ID: NAPP 8419 8
SOURCE_IMAGE_DATE: 1995 8 21
SOURCE_DEM_DATE: 1997 3 15
AGENCY: WESTERN MAPPING CENTER (WMC)
PRODUCER: USFS
PRODUCTION_SYSTEM: DV2.6.3 10/9OV2.4 5/95
COMPRESSION: UNDEFINED
STANDARD_VERSION: 1996 12
METADATA_DATE: 1997 11 2
DATA_FILE_SIZE: 41980589
BYTE_COUNT: 5497
