FILENAME: O4711521.NES.56528.tif
QUADRANGLE_NAME: BELKNAP
QUADRANT: NE
WEST_LONGITUDE: -115 26 15.00000
EAST_LONGITUDE: -115 22 30.00000
NORTH_LATITUDE: 47 45 0.00000
SOUTH_LATITUDE: 47 41 15.00000
PRODUCTION_DATE: 1997 3 26
RASTER_ORDER: LEFT_RIGHT/TOP_BOTTOM
BAND_ORGANIZATION: SINGLE FILE
BAND_CONTENT: BLACK&WHITE
BAND_CONTENT: UNDEFINED
BAND_CONTENT: UNDEFINED
BITS_PER_PIXEL: 8
SAMPLES_AND_LINES: 5504 7654
HORIZONTAL_DATUM: NAD83
HORIZONTAL_COORDINATE_SYSTEM: UTM
COORDINATE_ZONE: 11
HORIZONTAL_UNITS: METERS
HORIZONTAL_RESOLUTION: 1.00000
SECONDARY_HORIZONTAL_DATUM: NAD27
XY_ORIGIN: 616741.00000 5290094.00000
SECONDARY_XY_ORIGIN: 616819.25500 5289883.97900
NATION: US
STATE: MT
NW_QUAD_CORNER_XY: 617116.10500 5289696.58300
NE_QUAD_CORNER_XY: 621800.63200 5289793.06200
SE_QUAD_CORNERY_XY: 621946.42200 5282847.05000
SW_QUAD_CORNER_XY: 617256.28500 5282750.55100
SECONDARY_NW_QUAD_XY: 617119.77200 5289477.80500
SECONDARY_NE_QUAD_XY: 621804.44600 5289574.28800
SECONDARY_SE_QUAD_XY: 621950.23500 5282628.29400
SECONDARY_SW_QUAD_XY: 617259.95100 5282531.79200
RMSE_XY: 1.70000
IMAGE_SOURCE: BLACK AND WHITE FILM
SOURCE_IMAGE_ID: NAPP 8421 30
SOURCE_IMAGE_DATE: 1995 8 20
SOURCE_DEM_DATE: 1997 3 26
AGENCY: WESTERN MAPPING CENTER (WMC)
PRODUCER: USFS
PRODUCTION_SYSTEM: DV2.6.3 10/9OV2.4 5/95
COMPRESSION: UNDEFINED
STANDARD_VERSION: 1996 12
METADATA_DATE: 1997 11 2
DATA_FILE_SIZE: 42133120
BYTE_COUNT: 5504
