FILENAME: O4711521.SWS.56549.tif
QUADRANGLE_NAME: BELKNAP
QUADRANT: SW
WEST_LONGITUDE: -115 30 0.00000
EAST_LONGITUDE: -115 26 15.00000
NORTH_LATITUDE: 47 41 15.00000
SOUTH_LATITUDE: 47 37 30.00000
PRODUCTION_DATE: 1997 3 26
RASTER_ORDER: LEFT_RIGHT/TOP_BOTTOM
BAND_ORGANIZATION: SINGLE FILE
BAND_CONTENT: BLACK&WHITE
BAND_CONTENT: UNDEFINED
BAND_CONTENT: UNDEFINED
BITS_PER_PIXEL: 8
SAMPLES_AND_LINES: 5508 7651
HORIZONTAL_DATUM: NAD83
HORIZONTAL_COORDINATE_SYSTEM: UTM
COORDINATE_ZONE: 11
HORIZONTAL_UNITS: METERS
HORIZONTAL_RESOLUTION: 1.00000
SECONDARY_HORIZONTAL_DATUM: NAD27
XY_ORIGIN: 612190.00000 5283052.00000
SECONDARY_XY_ORIGIN: 612268.00000 5282843.00000
NATION: US
STATE: MT
NW_QUAD_CORNER_XY: 612566.13500 5282657.83700
NE_QUAD_CORNER_XY: 617256.28500 5282750.55100
SE_QUAD_CORNERY_XY: 617396.32500 5275804.58900
SW_QUAD_CORNER_XY: 612700.57100 5275711.85700
SECONDARY_NW_QUAD_XY: 612569.65400 5282439.07600
SECONDARY_NE_QUAD_XY: 617259.95100 5282531.79200
SECONDARY_SE_QUAD_XY: 617399.99100 5275585.85000
SECONDARY_SW_QUAD_XY: 612704.09000 5275493.11500
RMSE_XY: 2.80000
IMAGE_SOURCE: BLACK AND WHITE FILM
SOURCE_IMAGE_ID: NAPP 8422 107
SOURCE_IMAGE_DATE: 1995 7 28
SOURCE_DEM_DATE: 1997 3 26
AGENCY: WESTERN MAPPING CENTER (WMC)
PRODUCER: USFS
PRODUCTION_SYSTEM: DV2.6.3 10/9OV2.4 5/95
COMPRESSION: UNDEFINED
STANDARD_VERSION: 1996 12
METADATA_DATE: 1997 11 2
DATA_FILE_SIZE: 42147216
BYTE_COUNT: 5508
