FILENAME: O4711520.NWS.56594.tif
QUADRANGLE_NAME: HELWICK PEAK
QUADRANT: NW
WEST_LONGITUDE: -115 37 30.00000
EAST_LONGITUDE: -115 33 45.00000
NORTH_LATITUDE: 47 45 0.00000
SOUTH_LATITUDE: 47 41 15.00000
PRODUCTION_DATE: 1997 3 21
RASTER_ORDER: LEFT_RIGHT/TOP_BOTTOM
BAND_ORGANIZATION: SINGLE FILE
BAND_CONTENT: BLACK&WHITE
BAND_CONTENT: UNDEFINED
BAND_CONTENT: UNDEFINED
BITS_PER_PIXEL: 8
SAMPLES_AND_LINES: 5488 7643
HORIZONTAL_DATUM: NAD83
HORIZONTAL_COORDINATE_SYSTEM: UTM
COORDINATE_ZONE: 11
HORIZONTAL_UNITS: METERS
HORIZONTAL_RESOLUTION: 1.00000
SECONDARY_HORIZONTAL_DATUM: NAD27
XY_ORIGIN: 602687.00000 5289816.00000
SECONDARY_XY_ORIGIN: 602765.10600 5289606.21300
NATION: US
STATE: MT
NW_QUAD_CORNER_XY: 603062.44500 5289429.85400
NE_QUAD_CORNER_XY: 607747.01100 5289514.97800
SE_QUAD_CORNERY_XY: 607875.97200 5282568.90900
SW_QUAD_CORNER_XY: 603185.79800 5282483.76700
SECONDARY_NW_QUAD_XY: 603065.67200 5289211.06800
SECONDARY_NE_QUAD_XY: 607750.38400 5289296.19500
SECONDARY_SE_QUAD_XY: 607879.34500 5282350.14500
SECONDARY_SW_QUAD_XY: 603189.02400 5282265.00000
RMSE_XY: 1.80000
IMAGE_SOURCE: BLACK AND WHITE FILM
SOURCE_IMAGE_ID: NAPP 8421 75
SOURCE_IMAGE_DATE: 1995 8 20
SOURCE_DEM_DATE: 1997 3 21
AGENCY: WESTERN MAPPING CENTER (WMC)
PRODUCER: USFS
PRODUCTION_SYSTEM: DV2.6.3 10/9OV2.4 5/95
COMPRESSION: UNDEFINED
STANDARD_VERSION: 1996 12
METADATA_DATE: 1997 11 2
DATA_FILE_SIZE: 41950272
BYTE_COUNT: 5488
