FILENAME: O4711520.SES.56571.tif
QUADRANGLE_NAME: HELWICK PEAK
QUADRANT: SE
WEST_LONGITUDE: -115 33 45.00000
EAST_LONGITUDE: -115 30 0.00000
NORTH_LATITUDE: 47 41 15.00000
SOUTH_LATITUDE: 47 37 30.00000
PRODUCTION_DATE: 1997 3 21
RASTER_ORDER: LEFT_RIGHT/TOP_BOTTOM
BAND_ORGANIZATION: SINGLE FILE
BAND_CONTENT: BLACK&WHITE
BAND_CONTENT: UNDEFINED
BAND_CONTENT: UNDEFINED
BITS_PER_PIXEL: 8
SAMPLES_AND_LINES: 5500 7647
HORIZONTAL_DATUM: NAD83
HORIZONTAL_COORDINATE_SYSTEM: UTM
COORDINATE_ZONE: 11
HORIZONTAL_UNITS: METERS
HORIZONTAL_RESOLUTION: 1.00000
SECONDARY_HORIZONTAL_DATUM: NAD27
XY_ORIGIN: 607500.00000 5282959.00000
SECONDARY_XY_ORIGIN: 607578.08700 5282749.12500
NATION: US
STATE: MT
NW_QUAD_CORNER_XY: 607875.97200 5282568.90900
NE_QUAD_CORNER_XY: 612566.13500 5282657.83700
SE_QUAD_CORNERY_XY: 612700.57100 5275711.85700
SW_QUAD_CORNER_XY: 608004.80400 5275622.91200
SECONDARY_NW_QUAD_XY: 607879.34500 5282350.14500
SECONDARY_NE_QUAD_XY: 612569.65400 5282439.07600
SECONDARY_SE_QUAD_XY: 612704.09000 5275493.11500
SECONDARY_SW_QUAD_XY: 608008.17700 5275404.16700
RMSE_XY: 3.50000
IMAGE_SOURCE: BLACK AND WHITE FILM
SOURCE_IMAGE_ID: NAPP 8422 48
SOURCE_IMAGE_DATE: 1995 7 28
SOURCE_DEM_DATE: 1997 3 21
AGENCY: WESTERN MAPPING CENTER (WMC)
PRODUCER: USFS
PRODUCTION_SYSTEM: DV2.6.3 10/9OV2.4 5/95
COMPRESSION: UNDEFINED
STANDARD_VERSION: 1996 12
METADATA_DATE: 1997 11 2
DATA_FILE_SIZE: 42064000
BYTE_COUNT: 5500
