FILENAME: O4711520.SWS.56593.tif
QUADRANGLE_NAME: HELWICK PEAK
QUADRANT: SW
WEST_LONGITUDE: -115 37 30.00000
EAST_LONGITUDE: -115 33 45.00000
NORTH_LATITUDE: 47 41 15.00000
SOUTH_LATITUDE: 47 37 30.00000
PRODUCTION_DATE: 1997 3 21
RASTER_ORDER: LEFT_RIGHT/TOP_BOTTOM
BAND_ORGANIZATION: SINGLE FILE
BAND_CONTENT: BLACK&WHITE
BAND_CONTENT: UNDEFINED
BAND_CONTENT: UNDEFINED
BITS_PER_PIXEL: 8
SAMPLES_AND_LINES: 5496 7643
HORIZONTAL_DATUM: NAD83
HORIZONTAL_COORDINATE_SYSTEM: UTM
COORDINATE_ZONE: 11
HORIZONTAL_UNITS: METERS
HORIZONTAL_RESOLUTION: 1.00000
SECONDARY_HORIZONTAL_DATUM: NAD27
XY_ORIGIN: 602810.00000 5282870.00000
SECONDARY_XY_ORIGIN: 602887.00000 5282661.00000
NATION: US
STATE: MT
NW_QUAD_CORNER_XY: 603185.79800 5282483.76700
NE_QUAD_CORNER_XY: 607875.97200 5282568.90900
SE_QUAD_CORNERY_XY: 608004.80400 5275622.91200
SW_QUAD_CORNER_XY: 603309.02700 5275537.75200
SECONDARY_NW_QUAD_XY: 603189.02400 5282265.00000
SECONDARY_NE_QUAD_XY: 607879.34500 5282350.14500
SECONDARY_SE_QUAD_XY: 608008.17700 5275404.16700
SECONDARY_SW_QUAD_XY: 603312.25300 5275319.00500
RMSE_XY: 3.30000
IMAGE_SOURCE: BLACK AND WHITE FILM
SOURCE_IMAGE_ID: NAPP 8421 73
SOURCE_IMAGE_DATE: 1995 8 20
SOURCE_DEM_DATE: 1997 3 21
AGENCY: WESTERN MAPPING CENTER (WMC)
PRODUCER: USFS
PRODUCTION_SYSTEM: DV2.6.3 10/9OV2.4 5/95
COMPRESSION: UNDEFINED
STANDARD_VERSION: 1996 12
METADATA_DATE: 1997 11 2
DATA_FILE_SIZE: 42011424
BYTE_COUNT: 5496
