FILENAME: O4711519.NES.56618.tif
QUADRANGLE_NAME: BLACK PEAK
QUADRANT: NE
WEST_LONGITUDE: -115 41 15.00000
EAST_LONGITUDE: -115 37 30.00000
NORTH_LATITUDE: 47 45 0.00000
SOUTH_LATITUDE: 47 41 15.00000
PRODUCTION_DATE: 1997 3 15
RASTER_ORDER: LEFT_RIGHT/TOP_BOTTOM
BAND_ORGANIZATION: SINGLE FILE
BAND_CONTENT: BLACK&WHITE
BAND_CONTENT: UNDEFINED
BAND_CONTENT: UNDEFINED
BITS_PER_PIXEL: 8
SAMPLES_AND_LINES: 5484 7640
HORIZONTAL_DATUM: NAD83
HORIZONTAL_COORDINATE_SYSTEM: UTM
COORDINATE_ZONE: 11
HORIZONTAL_UNITS: METERS
HORIZONTAL_RESOLUTION: 1.00000
SECONDARY_HORIZONTAL_DATUM: NAD27
XY_ORIGIN: 598002.00000 5289731.00000
SECONDARY_XY_ORIGIN: 598079.00000 5289522.00000
NATION: US
STATE: MT
NW_QUAD_CORNER_XY: 598377.86800 5289348.51300
NE_QUAD_CORNER_XY: 603062.44500 5289429.85400
SE_QUAD_CORNERY_XY: 603185.79800 5282483.76700
SW_QUAD_CORNER_XY: 598495.61200 5282402.41000
SECONDARY_NW_QUAD_XY: 598380.94800 5289129.72500
SECONDARY_NE_QUAD_XY: 603065.67200 5289211.06800
SECONDARY_SE_QUAD_XY: 603189.02400 5282265.00000
SECONDARY_SW_QUAD_XY: 598498.69200 5282183.64100
RMSE_XY: 2.20000
IMAGE_SOURCE: BLACK AND WHITE FILM
SOURCE_IMAGE_ID: NAPP 8421 246
SOURCE_IMAGE_DATE: 1995 8 21
SOURCE_DEM_DATE: 1997 3 15
AGENCY: WESTERN MAPPING CENTER (WMC)
PRODUCER: USFS
PRODUCTION_SYSTEM: DV2.6.3 10/9OV2.4 5/95
COMPRESSION: UNDEFINED
STANDARD_VERSION: 1996 12
METADATA_DATE: 1997 11 2
DATA_FILE_SIZE: 41903244
BYTE_COUNT: 5484
