FILENAME: O4711519.NWS.56642.tif
QUADRANGLE_NAME: BLACK PEAK
QUADRANT: NW
WEST_LONGITUDE: -115 45 0.00000
EAST_LONGITUDE: -115 41 15.00000
NORTH_LATITUDE: 47 45 0.00000
SOUTH_LATITUDE: 47 41 15.00000
PRODUCTION_DATE: 1997 3 15
RASTER_ORDER: LEFT_RIGHT/TOP_BOTTOM
BAND_ORGANIZATION: SINGLE FILE
BAND_CONTENT: BLACK&WHITE
BAND_CONTENT: UNDEFINED
BAND_CONTENT: UNDEFINED
BITS_PER_PIXEL: 8
SAMPLES_AND_LINES: 5480 7636
HORIZONTAL_DATUM: NAD83
HORIZONTAL_COORDINATE_SYSTEM: UTM
COORDINATE_ZONE: 11
HORIZONTAL_UNITS: METERS
HORIZONTAL_RESOLUTION: 1.00000
SECONDARY_HORIZONTAL_DATUM: NAD27
XY_ORIGIN: 593317.00000 5289650.00000
SECONDARY_XY_ORIGIN: 593394.00000 5289441.00000
NATION: US
STATE: MT
STATE: ID
NW_QUAD_CORNER_XY: 593693.28000 5289270.95700
NE_QUAD_CORNER_XY: 598377.86800 5289348.51300
SE_QUAD_CORNERY_XY: 598495.61200 5282402.41000
SW_QUAD_CORNER_XY: 593805.41500 5282324.83800
SECONDARY_NW_QUAD_XY: 593696.21300 5289052.16700
SECONDARY_NE_QUAD_XY: 598380.94800 5289129.72500
SECONDARY_SE_QUAD_XY: 598498.69200 5282183.64100
SECONDARY_SW_QUAD_XY: 593808.34800 5282106.06600
RMSE_XY: 3.80000
IMAGE_SOURCE: BLACK AND WHITE FILM
SOURCE_IMAGE_ID: NAPP 8419 12
SOURCE_IMAGE_DATE: 1995 8 21
SOURCE_DEM_DATE: 1997 3 15
AGENCY: WESTERN MAPPING CENTER (WMC)
PRODUCER: USFS
PRODUCTION_SYSTEM: DV2.6.3 10/9OV2.4 5/95
COMPRESSION: UNDEFINED
STANDARD_VERSION: 1996 12
METADATA_DATE: 1997 11 2
DATA_FILE_SIZE: 41850760
BYTE_COUNT: 5480
