FILENAME: O4711519.SES.56617.tif
QUADRANGLE_NAME: BLACK PEAK
QUADRANT: SE
WEST_LONGITUDE: -115 41 15.00000
EAST_LONGITUDE: -115 37 30.00000
NORTH_LATITUDE: 47 41 15.00000
SOUTH_LATITUDE: 47 37 30.00000
PRODUCTION_DATE: 1997 3 15
RASTER_ORDER: LEFT_RIGHT/TOP_BOTTOM
BAND_ORGANIZATION: SINGLE FILE
BAND_CONTENT: BLACK&WHITE
BAND_CONTENT: UNDEFINED
BAND_CONTENT: UNDEFINED
BITS_PER_PIXEL: 8
SAMPLES_AND_LINES: 5488 7640
HORIZONTAL_DATUM: NAD83
HORIZONTAL_COORDINATE_SYSTEM: UTM
COORDINATE_ZONE: 11
HORIZONTAL_UNITS: METERS
HORIZONTAL_RESOLUTION: 1.00000
SECONDARY_HORIZONTAL_DATUM: NAD27
XY_ORIGIN: 598120.00000 5282785.00000
SECONDARY_XY_ORIGIN: 598197.00000 5282576.00000
NATION: US
STATE: MT
NW_QUAD_CORNER_XY: 598495.61200 5282402.41000
NE_QUAD_CORNER_XY: 603185.79800 5282483.76700
SE_QUAD_CORNERY_XY: 603309.02700 5275537.75200
SW_QUAD_CORNER_XY: 598613.23800 5275456.37900
SECONDARY_NW_QUAD_XY: 598498.69200 5282183.64100
SECONDARY_NE_QUAD_XY: 603189.02400 5282265.00000
SECONDARY_SE_QUAD_XY: 603312.25300 5275319.00500
SECONDARY_SW_QUAD_XY: 598616.31700 5275237.62900
RMSE_XY: 2.50000
IMAGE_SOURCE: BLACK AND WHITE FILM
SOURCE_IMAGE_ID: NAPP 8421 244
SOURCE_IMAGE_DATE: 1995 8 21
SOURCE_DEM_DATE: 1997 3 15
AGENCY: WESTERN MAPPING CENTER (WMC)
PRODUCER: USFS
PRODUCTION_SYSTEM: DV2.6.3 10/9OV2.4 5/95
COMPRESSION: UNDEFINED
STANDARD_VERSION: 1996 12
METADATA_DATE: 1997 11 2
DATA_FILE_SIZE: 41933808
BYTE_COUNT: 5488
