FILENAME: O4711514.SWS.56507.tif
QUADRANGLE_NAME: VERMILION PEAK
QUADRANT: SW
WEST_LONGITUDE: -115 22 30.00000
EAST_LONGITUDE: -115 18 45.00000
NORTH_LATITUDE: 47 48 45.00000
SOUTH_LATITUDE: 47 45 0.00000
PRODUCTION_DATE: 1997 3 15
RASTER_ORDER: LEFT_RIGHT/TOP_BOTTOM
BAND_ORGANIZATION: SINGLE FILE
BAND_CONTENT: BLACK&WHITE
BAND_CONTENT: UNDEFINED
BAND_CONTENT: UNDEFINED
BITS_PER_PIXEL: 8
SAMPLES_AND_LINES: 5508 7658
HORIZONTAL_DATUM: NAD83
HORIZONTAL_COORDINATE_SYSTEM: UTM
COORDINATE_ZONE: 11
HORIZONTAL_UNITS: METERS
HORIZONTAL_RESOLUTION: 1.00000
SECONDARY_HORIZONTAL_DATUM: NAD27
XY_ORIGIN: 621279.00000 5297140.00000
SECONDARY_XY_ORIGIN: 621357.29300 5296929.75600
NATION: US
STATE: MT
NW_QUAD_CORNER_XY: 621654.69600 5296739.14400
NE_QUAD_CORNER_XY: 626333.59400 5296839.38800
SE_QUAD_CORNERY_XY: 626485.14600 5289893.32700
SW_QUAD_CORNER_XY: 621800.63200 5289793.06200
SECONDARY_NW_QUAD_XY: 621658.51000 5296520.35200
SECONDARY_NE_QUAD_XY: 626337.55500 5296620.59900
SECONDARY_SE_QUAD_XY: 626489.10600 5289674.55600
SECONDARY_SW_QUAD_XY: 621804.44600 5289574.28800
RMSE_XY: 1.60000
IMAGE_SOURCE: BLACK AND WHITE FILM
SOURCE_IMAGE_ID: NAPP 8418 40
SOURCE_IMAGE_DATE: 1995 8 5
SOURCE_DEM_DATE: 1997 3 15
AGENCY: WESTERN MAPPING CENTER (WMC)
PRODUCER: USFS
PRODUCTION_SYSTEM: DV2.6.3 10/9OV2.4 5/95
COMPRESSION: UNDEFINED
STANDARD_VERSION: 1996 12
METADATA_DATE: 1997 11 2
DATA_FILE_SIZE: 42185772
BYTE_COUNT: 5508
