FILENAME: O4711513.NES.56530.tif
QUADRANGLE_NAME: SEVEN POINT MOUNTAIN
QUADRANT: NE
WEST_LONGITUDE: -115 26 15.00000
EAST_LONGITUDE: -115 22 30.00000
NORTH_LATITUDE: 47 52 30.00000
SOUTH_LATITUDE: 47 48 45.00000
PRODUCTION_DATE: 1997 3 26
RASTER_ORDER: LEFT_RIGHT/TOP_BOTTOM
BAND_ORGANIZATION: SINGLE FILE
BAND_CONTENT: BLACK&WHITE
BAND_CONTENT: UNDEFINED
BAND_CONTENT: UNDEFINED
BITS_PER_PIXEL: 8
SAMPLES_AND_LINES: 5496 7654
HORIZONTAL_DATUM: NAD83
HORIZONTAL_COORDINATE_SYSTEM: UTM
COORDINATE_ZONE: 11
HORIZONTAL_UNITS: METERS
HORIZONTAL_RESOLUTION: 1.00000
SECONDARY_HORIZONTAL_DATUM: NAD27
XY_ORIGIN: 616459.00000 5303986.00000
SECONDARY_XY_ORIGIN: 616537.54900 5303775.57000
NATION: US
STATE: MT
NW_QUAD_CORNER_XY: 616835.32300 5303588.85700
NE_QUAD_CORNER_XY: 621508.61500 5303685.29600
SE_QUAD_CORNERY_XY: 621654.69600 5296739.14400
SW_QUAD_CORNER_XY: 616975.78400 5296642.68500
SECONDARY_NW_QUAD_XY: 616838.99100 5303370.04500
SECONDARY_NE_QUAD_XY: 621512.42900 5303466.48700
SECONDARY_SE_QUAD_XY: 621658.51000 5296520.35200
SECONDARY_SW_QUAD_XY: 616979.45100 5296423.89000
RMSE_XY: 3.20000
IMAGE_SOURCE: BLACK AND WHITE FILM
SOURCE_IMAGE_ID: NAPP 8421 26
SOURCE_IMAGE_DATE: 1995 8 20
SOURCE_DEM_DATE: 1997 3 26
AGENCY: WESTERN MAPPING CENTER (WMC)
PRODUCER: USFS
PRODUCTION_SYSTEM: DV2.6.3 10/9OV2.4 5/95
COMPRESSION: UNDEFINED
STANDARD_VERSION: 1996 12
METADATA_DATE: 1997 11 2
DATA_FILE_SIZE: 42071880
BYTE_COUNT: 5496
