FILENAME: O4711513.SES.56529.tif
QUADRANGLE_NAME: SEVEN POINT MOUNTAIN
QUADRANT: SE
WEST_LONGITUDE: -115 26 15.00000
EAST_LONGITUDE: -115 22 30.00000
NORTH_LATITUDE: 47 48 45.00000
SOUTH_LATITUDE: 47 45 0.00000
PRODUCTION_DATE: 1997 3 26
RASTER_ORDER: LEFT_RIGHT/TOP_BOTTOM
BAND_ORGANIZATION: SINGLE FILE
BAND_CONTENT: BLACK&WHITE
BAND_CONTENT: UNDEFINED
BAND_CONTENT: UNDEFINED
BITS_PER_PIXEL: 8
SAMPLES_AND_LINES: 5501 7655
HORIZONTAL_DATUM: NAD83
HORIZONTAL_COORDINATE_SYSTEM: UTM
COORDINATE_ZONE: 11
HORIZONTAL_UNITS: METERS
HORIZONTAL_RESOLUTION: 1.00000
SECONDARY_HORIZONTAL_DATUM: NAD27
XY_ORIGIN: 616600.00000 5297044.00000
SECONDARY_XY_ORIGIN: 616678.40000 5296833.77000
NATION: US
STATE: MT
NW_QUAD_CORNER_XY: 616975.85000 5296642.64000
NE_QUAD_CORNER_XY: 621654.76000 5296739.10000
SE_QUAD_CORNERY_XY: 621800.70000 5289793.02000
SW_QUAD_CORNER_XY: 617116.17000 5289696.54000
SECONDARY_NW_QUAD_XY: 616979.52000 5296423.85000
SECONDARY_NE_QUAD_XY: 621658.58000 5296520.31000
SECONDARY_SE_QUAD_XY: 621804.51000 5289574.25000
SECONDARY_SW_QUAD_XY: 617119.84000 5289477.76000
RMSE_XY: 1.30000
IMAGE_SOURCE: BLACK AND WHITE FILM
SOURCE_IMAGE_ID: NAPP 8421 28
SOURCE_IMAGE_DATE: 1995 8 20
SOURCE_IMAGE_ID: NAPP 8421 26
SOURCE_IMAGE_DATE: 1995 8 20
SOURCE_DEM_DATE: 1997 3 26
AGENCY: WESTERN MAPPING CENTER (WMC)
PRODUCER: USFS
PRODUCTION_SYSTEM: DV2.6.3 10/9OV2.4 5/95
COMPRESSION: UNDEFINED
STANDARD_VERSION: 1996 12
METADATA_DATE: 1997 11 2
DATA_FILE_SIZE: 42115656
BYTE_COUNT: 5501
