FILENAME: O4711512.NWS.56596.tif
QUADRANGLE_NAME: TROUT CREEK
QUADRANT: NW
WEST_LONGITUDE: -115 37 30.00000
EAST_LONGITUDE: -115 33 45.00000
NORTH_LATITUDE: 47 52 30.00000
SOUTH_LATITUDE: 47 48 45.00000
PRODUCTION_DATE: 1997 3 21
RASTER_ORDER: LEFT_RIGHT/TOP_BOTTOM
BAND_ORGANIZATION: SINGLE FILE
BAND_CONTENT: BLACK&WHITE
BAND_CONTENT: UNDEFINED
BAND_CONTENT: UNDEFINED
BITS_PER_PIXEL: 8
SAMPLES_AND_LINES: 5480 7643
HORIZONTAL_DATUM: NAD83
HORIZONTAL_COORDINATE_SYSTEM: UTM
COORDINATE_ZONE: 11
HORIZONTAL_UNITS: METERS
HORIZONTAL_RESOLUTION: 1.00000
SECONDARY_HORIZONTAL_DATUM: NAD27
XY_ORIGIN: 602439.00000 5303708.00000
SECONDARY_XY_ORIGIN: 602517.25500 5303497.87900
NATION: US
STATE: MT
NW_QUAD_CORNER_XY: 602815.36900 5303322.24100
NE_QUAD_CORNER_XY: 607488.70000 5303407.33000
SE_QUAD_CORNERY_XY: 607617.92000 5296461.11900
SW_QUAD_CORNER_XY: 602938.96900 5296376.01200
SECONDARY_NW_QUAD_XY: 602818.59700 5303103.42100
SECONDARY_NE_QUAD_XY: 607492.07400 5303188.51200
SECONDARY_SE_QUAD_XY: 607621.29400 5296242.31800
SECONDARY_SW_QUAD_XY: 602942.19600 5296157.20800
RMSE_XY: 1.50000
IMAGE_SOURCE: BLACK AND WHITE FILM
SOURCE_IMAGE_ID: NAPP 8421 79
SOURCE_IMAGE_DATE: 1995 8 20
SOURCE_DEM_DATE: 1997 3 21
AGENCY: WESTERN MAPPING CENTER (WMC)
PRODUCER: USFS
PRODUCTION_SYSTEM: DV2.6.3 10/9OV2.4 5/95
COMPRESSION: UNDEFINED
STANDARD_VERSION: 1996 12
METADATA_DATE: 1997 11 2
DATA_FILE_SIZE: 41889120
BYTE_COUNT: 5480
