FILENAME: O4711511.NES.56620.tif
QUADRANGLE_NAME: LARCHWOOD
QUADRANT: NE
WEST_LONGITUDE: -115 41 15.00000
EAST_LONGITUDE: -115 37 30.00000
NORTH_LATITUDE: 47 52 30.00000
SOUTH_LATITUDE: 47 48 45.00000
PRODUCTION_DATE: 1997 3 13
RASTER_ORDER: LEFT_RIGHT/TOP_BOTTOM
BAND_ORGANIZATION: SINGLE FILE
BAND_CONTENT: BLACK&WHITE
BAND_CONTENT: UNDEFINED
BAND_CONTENT: UNDEFINED
BITS_PER_PIXEL: 8
SAMPLES_AND_LINES: 5472 7639
HORIZONTAL_DATUM: NAD83
HORIZONTAL_COORDINATE_SYSTEM: UTM
COORDINATE_ZONE: 11
HORIZONTAL_UNITS: METERS
HORIZONTAL_RESOLUTION: 1.00000
SECONDARY_HORIZONTAL_DATUM: NAD27
XY_ORIGIN: 597766.00000 5303623.00000
SECONDARY_XY_ORIGIN: 597844.05900 5303413.02100
NATION: US
STATE: MT
NW_QUAD_CORNER_XY: 598142.02600 5303240.93500
NE_QUAD_CORNER_XY: 602815.36900 5303322.24100
SE_QUAD_CORNERY_XY: 602938.96900 5296376.01200
SW_QUAD_CORNER_XY: 598260.00600 5296294.68800
SECONDARY_NW_QUAD_XY: 598145.10700 5303022.11200
SECONDARY_NE_QUAD_XY: 602818.59700 5303103.42100
SECONDARY_SE_QUAD_XY: 602942.19600 5296157.20800
SECONDARY_SW_QUAD_XY: 598263.08600 5296075.88200
RMSE_XY: 1.10000
IMAGE_SOURCE: BLACK AND WHITE FILM
SOURCE_IMAGE_ID: NAPP 8421 250
SOURCE_IMAGE_DATE: 1995 8 21
SOURCE_DEM_DATE: 1997 3 13
AGENCY: WESTERN MAPPING CENTER (WMC)
PRODUCER: USFS
PRODUCTION_SYSTEM: DV2.6.3 10/9OV2.4 5/95
COMPRESSION: UNDEFINED
STANDARD_VERSION: 1996 12
METADATA_DATE: 1997 11 2
DATA_FILE_SIZE: 41806080
BYTE_COUNT: 5472
